Back to the "Multiple platform build/check report" | A B C D E F G H I J K L M N O [P] Q R S T U V W X Y Z |
Package 311/419 | Hostname | OS / Arch | BUILD | CHECK | BUILD BIN | ||||
plw 1.10.0 Magnus Astrand
| lamb2 | Linux (openSUSE 11.2) / x86_64 | OK | OK | |||||
liverpool | Windows Server 2003 R2 (32-bit) / x64 | [ OK ] | OK | OK | |||||
gewurz | Windows Server 2008 R2 Enterprise (64-bit) / x64 | OK | OK | OK |
Package: plw |
Version: 1.10.0 |
Command: chmod a+r plw -R && E:\biocbld\bbs-2.7-bioc\R\bin\R.exe CMD build --keep-empty-dirs plw |
StartedAt: 2011-04-07 04:04:12 -0700 (Thu, 07 Apr 2011) |
EndedAt: 2011-04-07 04:04:43 -0700 (Thu, 07 Apr 2011) |
EllapsedTime: 30.8 seconds |
RetCode: 0 |
Status: OK |
PackageFile: plw_1.10.0.tar.gz |
PackageFileSize: 845.3 KiB |
Warning: unknown option '--keep-empty-dirs' * checking for file 'plw/DESCRIPTION' ... OK * preparing 'plw': * checking DESCRIPTION meta-information ... OK * cleaning src * installing the package to re-build vignettes * creating vignettes ... OK * cleaning src * checking for LF line-endings in source and make files * checking for empty or unneeded directories * building 'plw_1.10.0.tar.gz'