Back to the "Multiple platform build/check report" |
Package 77/84 | Hostname | OS / Arch | BUILD | CHECK | BUILD BIN | ||||
TargetSearchData 1.0.3 Alvaro Cuadros-Inostroza
| lamb2 | Linux (openSUSE 11.2) / x86_64 | OK | OK | |||||
liverpool | Windows Server 2003 R2 (32-bit) / x64 | OK | OK | [ OK ] | |||||
pelham | Mac OS X Leopard (10.5.8) / i386 | OK | OK | OK |
Package: TargetSearchData |
Version: 1.0.3 |
Command: E:\biocbld\bbs-2.7-bioc\R\bin\R.exe CMD INSTALL --build --library=TargetSearchData.buildbin-libdir TargetSearchData_1.0.3.tar.gz |
StartedAt: 2010-11-11 17:22:27 -0800 (Thu, 11 Nov 2010) |
EndedAt: 2010-11-11 17:23:16 -0800 (Thu, 11 Nov 2010) |
EllapsedTime: 49.5 seconds |
RetCode: 0 |
Status: OK |
PackageFile: TargetSearchData_1.0.3.zip |
PackageFileSize: 29.83 MiB |
* installing *source* package 'TargetSearchData' ... ** R ** data ** inst ** preparing package for lazy loading Loading required package: xcms Loading Tcl/Tk interface ... done ** help *** installing help indices ** building package indices ... ** testing if installed package can be loaded * MD5 sums packaged installation of 'TargetSearchData' as TargetSearchData_1.0.3.zip * DONE (TargetSearchData)