yeastRNASeq 0.0.3 J. Bullard
Snapshot Date: 2011-02-27 12:29:13 -0800 (Sun, 27 Feb 2011) | URL: https://hedgehog.fhcrc.org/bioc-data/trunk/experiment/pkgs/yeastRNASeq | Last Changed Rev: 1395 / Revision: 1436 | Last Changed Date: 2010-12-03 12:31:37 -0800 (Fri, 03 Dec 2010) |
| lamb2 | Linux (openSUSE 11.2) / x86_64 | OK | OK | |
gewurz | Windows Server 2008 R2 Enterprise (64-bit) / x64 | OK | OK | OK |
pelham | Mac OS X Leopard (10.5.8) / i386 | OK | OK | [ OK ] |
>>>>>>>
>>>>>>> INSTALLATION WITH 'R CMD INSTALL --preclean --library=yeastRNASeq.buildbin-libdir yeastRNASeq_0.0.3.tar.gz'
>>>>>>>
* installing *source* package ‘yeastRNASeq’ ...
** data
** inst
** help
*** installing help indices
** building package indices ...
** testing if installed package can be loaded
* DONE (yeastRNASeq)