Back to the "Multiple platform build/check report" |
Package 11/82 | Hostname | OS / Arch | BUILD | CHECK | BUILD BIN | ||||
ceuhm3 0.0.6 VJ Carey
| lamb2 | Linux (openSUSE 11.2) / x86_64 | OK | OK | |||||
gewurz | Windows Server 2008 R2 Enterprise (64-bit) / x64 | OK | ERROR | ERROR | |||||
pelham | Mac OS X Leopard (10.5.8) / i386 | [ OK ] | OK | OK |
Package: ceuhm3 |
Version: 0.0.6 |
Command: /Library/Frameworks/R.framework/Versions/2.12/Resources/bin/R CMD build ceuhm3 |
StartedAt: 2011-02-27 14:22:09 -0800 (Sun, 27 Feb 2011) |
EndedAt: 2011-02-27 14:22:48 -0800 (Sun, 27 Feb 2011) |
EllapsedTime: 38.8 seconds |
RetCode: 0 |
Status: OK |
PackageFile: ceuhm3_0.0.6.tar.gz |
PackageFileSize: 108.7 MiB |
* checking for file ‘ceuhm3/DESCRIPTION’ ... OK * preparing ‘ceuhm3’: * checking DESCRIPTION meta-information ... OK * checking for LF line-endings in source and make files * checking for empty or unneeded directories * building ‘ceuhm3_0.0.6.tar.gz’