* using log directory 'D:/biocbld/bbs-2.7-data-experiment/meat/ecoliLeucine.Rcheck'
* using R version 2.12.2 (2011-02-25)
* using platform: x86_64-pc-mingw32 (64-bit)
* using session charset: ISO8859-1
* using option '--no-vignettes'
* checking for file 'ecoliLeucine/DESCRIPTION' ... OK
* this is package 'ecoliLeucine' version '1.2.5'
* checking package dependencies ... OK
* checking if this is a source package ... OK
* checking whether package 'ecoliLeucine' can be installed ... OK
* checking package directory ... OK
* checking for portable file names ... OK
* checking DESCRIPTION meta-information ... OK
* checking top-level files ... OK
* checking index information ... OK
* checking package subdirectories ... OK
* checking whether the package can be loaded ... OK
* checking whether the package can be loaded with stated dependencies ... OK
* checking whether the package can be unloaded cleanly ... OK
* checking Rd files ... OK
* checking Rd metadata ... OK
* checking Rd cross-references ... OK
* checking for missing documentation entries ... OK
* checking for code/documentation mismatches ... OK
* checking Rd \usage sections ... OK
* checking Rd contents ... OK
* checking for unstated dependencies in examples ... OK
* checking data for non-ASCII characters ... OK
* checking examples ... NONE
* checking PDF version of manual ... OK