* installing *source* package 'hapmap100kxba' ...
** R
** inst
** preparing package for lazy loading
** help
*** installing help indices
** building package indices ...
** testing if installed package can be loaded
/-------------------------------------------\
| SAMPLE HAPMAP 100K XBA |
|-------------------------------------------|
| Data obtained from http://www.hapmap.org |
| This package is meant to be used only for |
| demonstration of BioConductor packages. |
| Access http://www.hapmap.org for details. |
|-------------------------------------------|
| The contents of this package are provided |
| in good faith and the maintainer does not |
| warrant their accuracy. |
\-------------------------------------------/
* MD5 sums
packaged installation of 'hapmap100kxba' as hapmap100kxba_1.3.3.zip
* DONE (hapmap100kxba)