explorase 1.15.0 Michael Lawrence
Snapshot Date: 2010-11-02 11:19:47 -0700 (Tue, 02 Nov 2010) | URL: https://hedgehog.fhcrc.org/bioconductor/trunk/madman/Rpacks/explorase | Last Changed Rev: 50295 / Revision: 50630 | Last Changed Date: 2010-10-17 22:57:44 -0700 (Sun, 17 Oct 2010) |
| lamb2 | Linux (openSUSE 11.2) / x86_64 | OK | OK | |
liverpool | Windows Server 2003 R2 (32-bit) / x64 | OK | OK | [ OK ] |
gewurz | Windows Server 2008 R2 Enterprise (64-bit) / x64 | N O T S U P P O R T E D |
pelham | Mac OS X Leopard (10.5.8) / i386 | OK | OK | OK |
* installing *source* package 'explorase' ...
** R
** inst
** preparing package for lazy loading
** help
*** installing help indices
** building package indices ...
** testing if installed package can be loaded
* MD5 sums
packaged installation of 'explorase' as explorase_1.15.0.zip
* DONE (explorase)