goseq 1.3.2 Matthew Young
Snapshot Date: 2011-03-17 11:16:30 -0700 (Thu, 17 Mar 2011) | URL: https://hedgehog.fhcrc.org/bioconductor/trunk/madman/Rpacks/goseq | Last Changed Rev: 53399 / Revision: 53825 | Last Changed Date: 2011-03-02 21:07:16 -0800 (Wed, 02 Mar 2011) |
| lamb1 | Linux (openSUSE 11.3) / x86_64 | ERROR | skipped | |
liverpool | Windows Server 2003 R2 (32-bit) / x64 | ERROR | skipped | skipped |
gewurz | Windows Server 2008 R2 Enterprise (64-bit) / x64 | ERROR | skipped | skipped |
pelham | Mac OS X Leopard (10.5.8) / i386 | ERROR | skipped | skipped |
petty | Mac OS X Snow Leopard (10.6.6) / i386 | [ ERROR ] | skipped | skipped |
* checking for file 'goseq/DESCRIPTION' ... OK
* preparing 'goseq':
* checking DESCRIPTION meta-information ... OK
* installing the package to re-build vignettes
-----------------------------------
ERROR: dependency 'geneLenDataBase' is not available for package 'goseq'
* removing '/private/tmp/RtmpQkCBF6/Rinst5cf8faef/goseq'
-----------------------------------
ERROR: package installation failed