Back to the "Multiple platform build/check report" |
Package 23/98 | Hostname | OS / Arch | BUILD | CHECK | BUILD BIN | ||||
DLBCL 1.3.1 Marcus Dittrich
| lamb1 | Linux (openSUSE 11.3) / x86_64 | OK | OK | |||||
gewurz | Windows Server 2008 R2 Enterprise (64-bit) / x64 | OK | OK | OK | |||||
petty | Mac OS X Snow Leopard (10.6.7) / i386 | [ OK ] | OK | OK |
Package: DLBCL |
Version: 1.3.1 |
Command: /Library/Frameworks/R.framework/Versions/2.13/Resources/bin/R CMD build --keep-empty-dirs --no-resave-data DLBCL |
StartedAt: 2011-07-03 00:28:41 -0700 (Sun, 03 Jul 2011) |
EndedAt: 2011-07-03 00:28:47 -0700 (Sun, 03 Jul 2011) |
EllapsedTime: 5.9 seconds |
RetCode: 0 |
Status: OK |
PackageFile: DLBCL_1.3.1.tar.gz |
PackageFileSize: 5.525 MiB |
* checking for file 'DLBCL/DESCRIPTION' ... OK * preparing 'DLBCL': * checking DESCRIPTION meta-information ... OK * checking for LF line-endings in source and make files * checking for empty or unneeded directories * looking to see if a 'data/datalist' file should be added * building 'DLBCL_1.3.1.tar.gz'