Back to the "Multiple platform build/check report" |
Package 33/84 | Hostname | OS / Arch | BUILD | CHECK | BUILD BIN | ||||
GenomicFeatures.Mmusculus.UCSC.mm9 0.1.3 Biocore Data Team
| lamb1 | Linux (openSUSE 11.3) / x86_64 | OK | OK | |||||
gewurz | Windows Server 2008 R2 Enterprise (64-bit) / x64 | OK | OK | OK | |||||
pelham | Mac OS X Leopard (10.5.8) / i386 | OK | OK | OK | |||||
petty | Mac OS X Snow Leopard (10.6.4) / i386 | OK | OK | [ OK ] |
Package: GenomicFeatures.Mmusculus.UCSC.mm9 |
Version: 0.1.3 |
Command: /Users/biocbuild/BBS/utils/build-universal.sh GenomicFeatures.Mmusculus.UCSC.mm9_0.1.3.tar.gz /Library/Frameworks/R.framework/Versions/2.13/Resources/bin/R GenomicFeatures.Mmusculus.UCSC.mm9.buildbin-libdir |
StartedAt: 2011-02-01 02:58:38 -0800 (Tue, 01 Feb 2011) |
EndedAt: 2011-02-01 02:59:43 -0800 (Tue, 01 Feb 2011) |
EllapsedTime: 65.4 seconds |
RetCode: 0 |
Status: OK |
PackageFile: GenomicFeatures.Mmusculus.UCSC.mm9_0.1.3.tgz |
PackageFileSize: 10.32 MiB |
>>>>>>> >>>>>>> INSTALLATION WITH 'R CMD INSTALL --preclean --library=GenomicFeatures.Mmusculus.UCSC.mm9.buildbin-libdir GenomicFeatures.Mmusculus.UCSC.mm9_0.1.3.tar.gz' >>>>>>> * installing *source* package 'GenomicFeatures.Mmusculus.UCSC.mm9' ... ** R ** inst ** preparing package for lazy loading Loading required package: IRanges Attaching package: 'IRanges' The following object(s) are masked from 'package:base': Map, cbind, eval, mapply, order, paste, pmax, pmax.int, pmin, pmin.int, rbind, rep.int, table Loading required package: GenomicRanges ** help *** installing help indices ** building package indices ... ** testing if installed package can be loaded * DONE (GenomicFeatures.Mmusculus.UCSC.mm9)