snapCGH 1.23.0 John Marioni
Snapshot Date: 2011-05-09 07:20:56 -0700 (Mon, 09 May 2011) | URL: https://hedgehog.fhcrc.org/bioconductor/trunk/madman/Rpacks/snapCGH | Last Changed Rev: 54810 / Revision: 55359 | Last Changed Date: 2011-04-13 18:14:51 -0700 (Wed, 13 Apr 2011) |
| wilson2 | Linux (openSUSE 11.4) / x86_64 | OK | OK | |
liverpool | Windows Server 2003 R2 (32-bit) / x64 | OK | OK | OK |
gewurz | Windows Server 2008 R2 Enterprise (64-bit) / x64 | OK | OK | OK |
pelham | Mac OS X Leopard (10.5.8) / i386 | OK | [ OK ] | OK |
* using log directory ‘/Users/biocbuild/bbs-2.9-bioc/meat/snapCGH.Rcheck’
* using R version 2.14.0 Under development (unstable) (2011-04-24 r55634)
* using platform: i386-apple-darwin9.8.0 (32-bit)
* using session charset: UTF-8
* using option ‘--no-vignettes’
* checking for file ‘snapCGH/DESCRIPTION’ ... OK
* this is package ‘snapCGH’ version ‘1.23.0’
* checking package name space information ... OK
* checking package dependencies ... OK
* checking if this is a source package ... OK
* checking whether package ‘snapCGH’ can be installed ... OK
* checking installed package size ... OK
* checking package directory ... OK
* checking for portable file names ... OK
* checking for sufficient/correct file permissions ... OK
* checking DESCRIPTION meta-information ... OK
* checking top-level files ... OK
* checking index information ... OK
* checking package subdirectories ... OK
* checking R files for non-ASCII characters ... OK
* checking R files for syntax errors ... OK
* checking whether the package can be loaded ... OK
* checking whether the package can be loaded with stated dependencies ... OK
* checking whether the package can be unloaded cleanly ... OK
* checking whether the name space can be loaded with stated dependencies ... OK
* checking whether the name space can be unloaded cleanly ... OK
* checking for unstated dependencies in R code ... OK
* checking S3 generic/method consistency ... OK
* checking replacement functions ... OK
* checking foreign function calls ... OK
* checking R code for possible problems ... NOTE
generate.data: no visible binding for global variable
‘zero.length.distr.non.tiled’
generate.data: no visible binding for global variable
‘non.zero.length.distr.non.tiled’
generate.data: no visible binding for global variable
‘zero.length.distr.tiled’
generate.data: no visible binding for global variable
‘non.zero.length.distr.tiled’
heatmapGenome: no visible binding for global variable ‘floor.func’
readPositionalInfo: no visible binding for global variable ‘RGList’
simulateData: no visible binding for global variable
‘zero.length.distr.non.tiled’
simulateData: no visible binding for global variable
‘zero.length.distr.tiled’
simulateData: no visible binding for global variable
‘non.zero.length.distr.non.tiled’
simulateData: no visible binding for global variable
‘non.zero.length.distr.tiled’
* checking Rd files ... NOTE
prepare_Rd: genomePlot.Rd:51-57: Dropping empty section \examples
prepare_Rd: heatmapGenome.Rd:76-77: Dropping empty section \examples
prepare_Rd: plotSegmentedGenome.Rd:52-58: Dropping empty section \examples
prepare_Rd: sim.structure.Rd:57-58: Dropping empty section \examples
* checking Rd metadata ... OK
* checking Rd cross-references ... OK
* checking for missing documentation entries ... OK
* checking for code/documentation mismatches ... OK
* checking Rd \usage sections ... OK
* checking Rd contents ... OK
* checking for unstated dependencies in examples ... OK
* checking contents of ‘data’ directory ... OK
* checking data for non-ASCII characters ... OK
* checking data for ASCII and uncompressed saves ... OK
* checking line endings in C/C++/Fortran sources/headers ... OK
* checking line endings in Makefiles ... OK
* checking for portable use of $(BLAS_LIBS) and $(LAPACK_LIBS) ... OK
* checking sizes of PDF files under ‘inst/doc’ ... NOTE
‘qpdf’ made some significant size reductions:
compacted ‘snapCGHguide.pdf’ from 675Kb to 503Kb
consider running tools::compactPDF() on these files
* checking examples ... OK
* checking for unstated dependencies in vignettes ... OK
* checking package vignettes in ‘inst/doc’ ... OK
* checking running R code from vignettes ... SKIPPED
* checking re-building of vignettes ... SKIPPED
* checking PDF version of manual ... OK
* installing *source* package ‘snapCGH’ ...
** libs
*** arch - i386
gcc-4.2 -arch i386 -std=gnu99 -I/Library/Frameworks/R.framework/Versions/2.14/Resources/include -I/Library/Frameworks/R.framework/Versions/2.14/Resources/include/i386 -I/usr/local/include -fPIC -g -O2 -c optimizer.c -o optimizer.o
gcc-4.2 -arch i386 -std=gnu99 -dynamiclib -Wl,-headerpad_max_install_names -undefined dynamic_lookup -single_module -multiply_defined suppress -L/usr/local/lib -o snapCGH.so optimizer.o -F/Library/Frameworks/R.framework/.. -framework R -Wl,-framework -Wl,CoreFoundation
installing to /Users/biocbuild/bbs-2.9-bioc/meat/snapCGH.Rcheck/snapCGH/libs/i386
** R
** data
** inst
** preparing package for lazy loading
**************************************************************************
The plan to change the data format for CNA object has been postponed
in order to ensure backward compatibility with older versions of DNAcopy
**************************************************************************
######################################################################################
Have fun with GLAD
For smoothing it is possible to use either
the AWS algorithm (Polzehl and Spokoiny, 2002)
or the HaarSeg algorithm (Ben-Yaacov and Eldar, Bioinformatics, 2008)
If you use the package with AWS, please cite:
Hupe et al. (Bioinformatics, 2004) and Polzehl and Spokoiny (2002)
If you use the package with HaarSeg, please cite:
Hupe et al. (Bioinformatics, 2004) and (Ben-Yaacov and Eldar, Bioinformatics, 2008)
For fast computation it is recommanded to use
the daglad function with smoothfunc=haarseg
######################################################################################
New options are available in daglad: see help for details.
** help
*** installing help indices
** building package indices ...
*** tangling vignette sources ...
‘snapCGHguide.Rnw’
** testing if installed package can be loaded
* DONE (snapCGH)