CGEN 1.5.0 William Wheeler
Snapshot Date: 2011-07-06 19:21:50 -0700 (Wed, 06 Jul 2011) | URL: https://hedgehog.fhcrc.org/bioconductor/trunk/madman/Rpacks/CGEN | Last Changed Rev: 54802 / Revision: 56603 | Last Changed Date: 2011-04-13 15:36:43 -0700 (Wed, 13 Apr 2011) |
| wilson2 | Linux (openSUSE 11.4) / x86_64 | OK | OK | |
liverpool | Windows Server 2003 R2 (32-bit) / x64 | OK | OK | [ OK ] |
gewurz | Windows Server 2008 R2 Enterprise (64-bit) / x64 | OK | OK | OK |
moscato1 | Windows Server 2008 R2 Enterprise (64-bit) / x64 | OK | OK | OK |
pitt | Mac OS X Leopard (10.5.8) / i386 | OK | OK | OK |
* installing *source* package 'CGEN' ...
** libs
gcc -I"E:/biocbld/bbs-2.9-bioc/R/include" -O3 -Wall -std=gnu99 -c CML.c -o CML.o
gcc -I"E:/biocbld/bbs-2.9-bioc/R/include" -O3 -Wall -std=gnu99 -c ccl.c -o ccl.o
ccl.c:386:13: warning: 'tree_print' defined but not used
gfortran -O3 -c csclust.f -o csclust.o
gcc -I"E:/biocbld/bbs-2.9-bioc/R/include" -O3 -Wall -std=gnu99 -c fsclust.c -o fsclust.o
gcc -I"E:/biocbld/bbs-2.9-bioc/R/include" -O3 -Wall -std=gnu99 -c hcl.c -o hcl.o
hcl.c:375:13: warning: 'tree_print' defined but not used
gcc -I"E:/biocbld/bbs-2.9-bioc/R/include" -O3 -Wall -std=gnu99 -c pmatch.c -o pmatch.o
gcc -shared -s -static-libgcc -o CGEN.dll tmp.def CML.o ccl.o csclust.o fsclust.o hcl.o pmatch.o -lgfortran -LE:/biocbld/bbs-2.9-bioc/R/bin/i386 -lR
installing to E:/biocbld/bbs-2.9-bioc/meat/CGEN.buildbin-libdir/CGEN/libs/i386
** R
** data
** exec
** inst
** preparing package for lazy loading
Loading required package: splines
** help
*** installing help indices
** building package indices ...
*** tangling vignette sources ...
'vignette.Rnw'
** testing if installed package can be loaded
* MD5 sums
packaged installation of 'CGEN' as CGEN_1.5.0.zip
* DONE (CGEN)