explorase 1.17.0 Michael Lawrence
Snapshot Date: 2011-07-06 19:21:50 -0700 (Wed, 06 Jul 2011) | URL: https://hedgehog.fhcrc.org/bioconductor/trunk/madman/Rpacks/explorase | Last Changed Rev: 54802 / Revision: 56603 | Last Changed Date: 2011-04-13 15:36:43 -0700 (Wed, 13 Apr 2011) |
| wilson2 | Linux (openSUSE 11.4) / x86_64 | OK | OK | |
liverpool | Windows Server 2003 R2 (32-bit) / x64 | OK | OK | [ OK ] |
gewurz | Windows Server 2008 R2 Enterprise (64-bit) / x64 | N O T S U P P O R T E D |
moscato1 | Windows Server 2008 R2 Enterprise (64-bit) / x64 | ERROR | skipped | skipped |
pitt | Mac OS X Leopard (10.5.8) / i386 | N O T S U P P O R T E D |
* installing *source* package 'explorase' ...
** R
** inst
** preparing package for lazy loading
** help
*** installing help indices
** building package indices ...
*** tangling vignette sources ...
'explorase.Rnw'
** testing if installed package can be loaded
* MD5 sums
packaged installation of 'explorase' as explorase_1.17.0.zip
* DONE (explorase)