flowCore 1.19.2 F. Hahne
Snapshot Date: 2011-07-06 19:21:50 -0700 (Wed, 06 Jul 2011) | URL: https://hedgehog.fhcrc.org/bioconductor/trunk/madman/Rpacks/flowCore | Last Changed Rev: 56203 / Revision: 56603 | Last Changed Date: 2011-06-15 07:43:08 -0700 (Wed, 15 Jun 2011) |
| wilson2 | Linux (openSUSE 11.4) / x86_64 | OK | OK | |
liverpool | Windows Server 2003 R2 (32-bit) / x64 | OK | OK | [ OK ] |
gewurz | Windows Server 2008 R2 Enterprise (64-bit) / x64 | OK | OK | OK |
moscato1 | Windows Server 2008 R2 Enterprise (64-bit) / x64 | OK | OK | OK |
pitt | Mac OS X Leopard (10.5.8) / i386 | OK | OK | OK |
* installing *source* package 'flowCore' ...
** libs
g++ -I"E:/biocbld/bbs-2.9-bioc/R/include" -O2 -Wall -c FastLogicle.cpp -o FastLogicle.o
g++ -I"E:/biocbld/bbs-2.9-bioc/R/include" -O2 -Wall -c Logicle.cpp -o Logicle.o
gcc -I"E:/biocbld/bbs-2.9-bioc/R/include" -O3 -Wall -std=gnu99 -c biexponential.c -o biexponential.o
gcc -I"E:/biocbld/bbs-2.9-bioc/R/include" -O3 -Wall -std=gnu99 -c inPolygon.c -o inPolygon.o
gcc -I"E:/biocbld/bbs-2.9-bioc/R/include" -O3 -Wall -std=gnu99 -c inPolytope.c -o inPolytope.o
gcc -I"E:/biocbld/bbs-2.9-bioc/R/include" -O3 -Wall -std=gnu99 -c init.c -o init.o
g++ -I"E:/biocbld/bbs-2.9-bioc/R/include" -O2 -Wall -c logicleTransform.cpp -o logicleTransform.o
g++ -shared -s -static-libgcc -o flowCore.dll tmp.def FastLogicle.o Logicle.o biexponential.o inPolygon.o inPolytope.o init.o logicleTransform.o -LE:/biocbld/bbs-2.9-bioc/R/bin/i386 -lR
installing to E:/biocbld/bbs-2.9-bioc/meat/flowCore.buildbin-libdir/flowCore/libs/i386
** R
** data
** inst
** preparing package for lazy loading
Welcome to Bioconductor
Vignettes contain introductory material. To view, type
'browseVignettes()'. To cite Bioconductor, see
'citation("Biobase")' and for packages 'citation("pkgname")'.
Loading required package: robustbase
Loading required package: pcaPP
Loading required package: mvtnorm
Scalable Robust Estimators with High Breakdown Point (version 1.3-01)
** help
*** installing help indices
** building package indices ...
*** tangling vignette sources ...
'HowTo-flowCore.Rnw'
** testing if installed package can be loaded
Scalable Robust Estimators with High Breakdown Point (version 1.3-01)
* MD5 sums
packaged installation of 'flowCore' as flowCore_1.19.2.zip
* DONE (flowCore)