flowType 0.99.3 Nima Aghaeepour
Snapshot Date: 2011-07-06 19:21:50 -0700 (Wed, 06 Jul 2011) | URL: https://hedgehog.fhcrc.org/bioconductor/trunk/madman/Rpacks/flowType | Last Changed Rev: 56450 / Revision: 56603 | Last Changed Date: 2011-06-27 19:54:53 -0700 (Mon, 27 Jun 2011) |
| wilson2 | Linux (openSUSE 11.4) / x86_64 | OK | OK | |
liverpool | Windows Server 2003 R2 (32-bit) / x64 | OK | OK | OK |
gewurz | Windows Server 2008 R2 Enterprise (64-bit) / x64 | OK | OK | OK |
moscato1 | Windows Server 2008 R2 Enterprise (64-bit) / x64 | OK | OK | [ OK ] |
pitt | Mac OS X Leopard (10.5.8) / i386 | OK | OK | OK |
install for i386
* installing *source* package 'flowType' ...
** R
** data
** inst
** preparing package for lazy loading
Scalable Robust Estimators with High Breakdown Point (version 1.3-01)
Creating a generic function for "summary" from package "base" in package "flowType"
** help
*** installing help indices
** building package indices ...
*** tangling vignette sources ...
'flowType.Rnw'
** testing if installed package can be loaded
Scalable Robust Estimators with High Breakdown Point (version 1.3-01)
add DLL for x64
* installing *source* package 'flowType' ...
** testing if installed package can be loaded
Scalable Robust Estimators with High Breakdown Point (version 1.3-01)
Warning message:
In fun(...) : Rgraphviz built with Graphviz version 2.20.3.
Found installed Graphviz version 2.25.20090912.445. This _may_ cause problems.
* MD5 sums
packaged installation of 'flowType' as flowType_0.99.3.zip
* DONE (flowType)