Back to the "Multiple platform build/check report" | A B C D E F G H I J K L [M] N O P Q R S T U V W X Y Z |
Package 287/479 | Hostname | OS / Arch | BUILD | CHECK | BUILD BIN | ||||
mcaGUI 1.1.0 Wade K. Copeland
| wilson2 | Linux (openSUSE 11.4) / x86_64 | OK | OK | |||||
liverpool | Windows Server 2003 R2 (32-bit) / x64 | OK | OK | OK | |||||
gewurz | Windows Server 2008 R2 Enterprise (64-bit) / x64 | OK | OK | OK | |||||
moscato1 | Windows Server 2008 R2 Enterprise (64-bit) / x64 | OK | [ ERROR ] | ERROR | |||||
pitt | Mac OS X Leopard (10.5.8) / i386 | OK | OK | OK |
Package: mcaGUI |
Version: 1.1.0 |
Command: mkdir mcaGUI.buildbin-libdir && D:\biocbld\bbs-2.9-bioc\R\bin\R.exe CMD INSTALL --build --merge-multiarch --library=mcaGUI.buildbin-libdir mcaGUI_1.1.0.tar.gz >mcaGUI-install.out 2>&1 && D:\biocbld\bbs-2.9-bioc\R\bin\R.exe CMD check --library=mcaGUI.buildbin-libdir --install="check:mcaGUI-install.out" --force-multiarch --no-vignettes --timings mcaGUI_1.1.0.tar.gz && mv mcaGUI.buildbin-libdir/* mcaGUI.Rcheck/ && rmdir mcaGUI.buildbin-libdir |
StartedAt: 2011-07-07 05:36:17 -0700 (Thu, 07 Jul 2011) |
EndedAt: 2011-07-07 05:36:19 -0700 (Thu, 07 Jul 2011) |
EllapsedTime: 2.1 seconds |
RetCode: 1 |
Status: ERROR |
CheckDir: None |
Warnings: NA |