clusterProfiler 1.2.1 Guangchuang Yu
Snapshot Date: 2012-03-23 18:21:46 -0700 (Fri, 23 Mar 2012) | URL: https://hedgehog.fhcrc.org/bioconductor/branches/RELEASE_2_9/madman/Rpacks/clusterProfiler | Last Changed Rev: 62721 / Revision: 64395 | Last Changed Date: 2012-02-12 21:51:14 -0800 (Sun, 12 Feb 2012) |
| wilson2 | Linux (openSUSE 11.4) / x86_64 | OK | OK | |
moscato1 | Windows Server 2008 R2 Enterprise SP1 (64-bit) / x64 | OK | OK | [ OK ] |
pitt | Mac OS X Leopard (10.5.8) / i386 | OK | OK | OK |
install for i386
* installing *source* package 'clusterProfiler' ...
** R
** data
** inst
** preparing package for lazy loading
Creating a new generic function for 'plot' in package 'clusterProfiler'
** help
*** installing help indices
** building package indices ...
*** tangling vignette sources ...
'clusterProfiler.Rnw'
** testing if installed package can be loaded
add DLL for x64
* installing *source* package 'clusterProfiler' ...
** testing if installed package can be loaded
* MD5 sums
packaged installation of 'clusterProfiler' as clusterProfiler_1.2.1.zip
* DONE (clusterProfiler)