genefilter 1.36.0 Bioconductor Package Maintainer
Snapshot Date: 2012-03-23 18:21:46 -0700 (Fri, 23 Mar 2012) | URL: https://hedgehog.fhcrc.org/bioconductor/branches/RELEASE_2_9/madman/Rpacks/genefilter | Last Changed Rev: 59920 / Revision: 64395 | Last Changed Date: 2011-10-31 15:59:03 -0700 (Mon, 31 Oct 2011) |
| wilson2 | Linux (openSUSE 11.4) / x86_64 | OK | [ OK ] | |
moscato1 | Windows Server 2008 R2 Enterprise SP1 (64-bit) / x64 | OK | OK | OK |
pitt | Mac OS X Leopard (10.5.8) / i386 | OK | OK | OK |
* using log directory ‘/loc/home/biocbuild/bbs-2.9-bioc/meat/genefilter.Rcheck’
* using R version 2.14.2 (2012-02-29)
* using platform: x86_64-unknown-linux-gnu (64-bit)
* using session charset: UTF-8
* using option ‘--no-vignettes’
* checking for file ‘genefilter/DESCRIPTION’ ... OK
* this is package ‘genefilter’ version ‘1.36.0’
* checking package namespace information ... OK
* checking package dependencies ... OK
* checking if this is a source package ... OK
* checking if there is a namespace ... OK
* checking whether package ‘genefilter’ can be installed ... OK
* checking installed package size ... OK
* checking package directory ... OK
* checking for portable file names ... OK
* checking for sufficient/correct file permissions ... OK
* checking DESCRIPTION meta-information ... OK
* checking top-level files ... OK
* checking index information ... OK
* checking package subdirectories ... OK
* checking R files for non-ASCII characters ... OK
* checking R files for syntax errors ... OK
* checking whether the package can be loaded ... OK
* checking whether the package can be loaded with stated dependencies ... OK
* checking whether the package can be unloaded cleanly ... OK
* checking whether the namespace can be loaded with stated dependencies ... OK
* checking whether the namespace can be unloaded cleanly ... OK
* checking for unstated dependencies in R code ... OK
* checking S3 generic/method consistency ... OK
* checking replacement functions ... OK
* checking foreign function calls ... OK
* checking R code for possible problems ... NOTE
File ‘genefilter/R/zzz.R’:
.onLoad calls:
require("methods", quietly = TRUE)
require("Biobase")
Package startup functions should not change the search path.
See section ‘Good practice’ in ?.onAttach.
eSetFilter : buildGUI: no visible binding for '<<-' assignment to ‘END’
eSetFilter : buildGUI : finish: no visible binding for '<<-' assignment
to ‘END’
eSetFilter : buildGUI: no visible binding for global variable ‘END’
* checking Rd files ... OK
* checking Rd metadata ... OK
* checking Rd cross-references ... OK
* checking for missing documentation entries ... OK
* checking for code/documentation mismatches ... OK
* checking Rd \usage sections ... OK
* checking Rd contents ... OK
* checking for unstated dependencies in examples ... NOTE
‘library’ or ‘require’ call not declared from: ‘ROC’
* checking contents of ‘data’ directory ... OK
* checking data for non-ASCII characters ... OK
* checking data for ASCII and uncompressed saves ... OK
* checking line endings in C/C++/Fortran sources/headers ... OK
* checking line endings in Makefiles ... OK
* checking for portable use of $(BLAS_LIBS) and $(LAPACK_LIBS) ... OK
* checking compiled code ... OK
* checking examples ... OK
* checking for unstated dependencies in vignettes ... OK
* checking package vignettes in ‘inst/doc’ ... OK
* checking running R code from vignettes ... SKIPPED
* checking re-building of vignettes ... SKIPPED
* checking PDF version of manual ... OK
* installing *source* package ‘genefilter’ ...
** libs
g++ -I/home/biocbuild/bbs-2.9-bioc/R/include -I/usr/local/include -fpic -g -O2 -c half_range_mode.cpp -o half_range_mode.o
gcc -std=gnu99 -I/home/biocbuild/bbs-2.9-bioc/R/include -I/usr/local/include -fpic -g -O2 -c init.c -o init.o
gcc -std=gnu99 -I/home/biocbuild/bbs-2.9-bioc/R/include -I/usr/local/include -fpic -g -O2 -c nd.c -o nd.o
gcc -std=gnu99 -I/home/biocbuild/bbs-2.9-bioc/R/include -I/usr/local/include -fpic -g -O2 -c pAUC.c -o pAUC.o
gcc -std=gnu99 -I/home/biocbuild/bbs-2.9-bioc/R/include -I/usr/local/include -fpic -g -O2 -c rowPAUCs.c -o rowPAUCs.o
gcc -std=gnu99 -I/home/biocbuild/bbs-2.9-bioc/R/include -I/usr/local/include -fpic -g -O2 -c rowttests.c -o rowttests.o
gfortran -fpic -g -O2 -c ttest.f -o ttest.o
g++ -shared -L/usr/local/lib64 -o genefilter.so half_range_mode.o init.o nd.o pAUC.o rowPAUCs.o rowttests.o ttest.o -lgfortran -lm -L/home/biocbuild/bbs-2.9-bioc/R/lib -lR
installing to /loc/home/biocbuild/bbs-2.9-bioc/meat/genefilter.Rcheck/genefilter/libs
** R
** data
** moving datasets to lazyload DB
** inst
** preparing package for lazy loading
Creating a generic function for ‘plot’ from package ‘graphics’ in package ‘genefilter’
** help
*** installing help indices
** building package indices ...
*** tangling vignette sources ...
‘howtogenefilter.Rnw’
‘howtogenefinder.Rnw’
‘independent_filtering_plots.Rnw’
** testing if installed package can be loaded
* DONE (genefilter)