goseq 1.6.1 Matthew Young
Snapshot Date: 2012-03-23 18:21:46 -0700 (Fri, 23 Mar 2012) | URL: https://hedgehog.fhcrc.org/bioconductor/branches/RELEASE_2_9/madman/Rpacks/goseq | Last Changed Rev: 64291 / Revision: 64395 | Last Changed Date: 2012-03-22 11:29:35 -0700 (Thu, 22 Mar 2012) |
| wilson2 | Linux (openSUSE 11.4) / x86_64 | OK | OK | |
moscato1 | Windows Server 2008 R2 Enterprise SP1 (64-bit) / x64 | OK | OK | [ OK ] |
pitt | Mac OS X Leopard (10.5.8) / i386 | ERROR | skipped | skipped |
install for i386
* installing *source* package 'goseq' ...
** R
** data
** inst
** preparing package for lazy loading
** help
*** installing help indices
** building package indices ...
*** tangling vignette sources ...
'goseq.Rnw'
** testing if installed package can be loaded
add DLL for x64
* installing *source* package 'goseq' ...
** testing if installed package can be loaded
* MD5 sums
packaged installation of 'goseq' as goseq_1.6.1.zip
* DONE (goseq)