methylumi 2.0.1 Sean Davis
Snapshot Date: 2012-01-08 18:22:44 -0800 (Sun, 08 Jan 2012) | URL: https://hedgehog.fhcrc.org/bioconductor/branches/RELEASE_2_9/madman/Rpacks/methylumi | Last Changed Rev: 60091 / Revision: 61898 | Last Changed Date: 2011-11-07 05:05:36 -0800 (Mon, 07 Nov 2011) |
| wilson2 | Linux (openSUSE 11.4) / x86_64 | OK | OK | |
liverpool | Windows Server 2003 R2 (32-bit) / x64 | OK | OK | OK |
gewurz | Windows Server 2008 R2 Enterprise SP1 (64-bit) / x64 | OK | [ OK ] | OK |
moscato1 | Windows Server 2008 R2 Enterprise SP1 (64-bit) / x64 | OK | OK | OK |
pitt | Mac OS X Leopard (10.5.8) / i386 | OK | OK | OK |
* using log directory 'D:/biocbld/bbs-2.9-bioc/meat/methylumi.Rcheck'
* using R version 2.14.1 (2011-12-22)
* using platform: x86_64-pc-mingw32 (64-bit)
* using session charset: ISO8859-1
* using option '--no-vignettes'
* checking for file 'methylumi/DESCRIPTION' ... OK
* checking extension type ... Package
* this is package 'methylumi' version '2.0.1'
* checking package namespace information ... OK
* checking package dependencies ... OK
* checking if this is a source package ... OK
* checking if there is a namespace ... OK
* checking whether package 'methylumi' can be installed ... OK
* checking installed package size ... OK
* checking package directory ... OK
* checking for portable file names ... OK
* checking DESCRIPTION meta-information ... OK
* checking top-level files ... OK
* checking index information ... OK
* checking package subdirectories ... OK
* checking R files for non-ASCII characters ... OK
* checking R files for syntax errors ... OK
* checking whether the package can be loaded ... OK
* checking whether the package can be loaded with stated dependencies ... OK
* checking whether the package can be unloaded cleanly ... OK
* checking whether the namespace can be loaded with stated dependencies ... OK
* checking whether the namespace can be unloaded cleanly ... OK
* checking for unstated dependencies in R code ... OK
* checking S3 generic/method consistency ... OK
* checking replacement functions ... OK
* checking foreign function calls ... OK
* checking R code for possible problems ... NOTE
compare.chips: no visible binding for global variable
'IlluminaHumanMethylation450kCOLOR_CHANNEL'
compare.chips: no visible binding for global variable
'IlluminaHumanMethylation27kCOLOR_CHANNEL'
compare.chips: no visible binding for global variable 'assay'
compare.chips: no visible binding for global variable 'chip'
cy3: no visible global function definition for 'addColorChannelInfo'
cy5: no visible global function definition for 'addColorChannelInfo'
gamma.get.xcs: no visible global function definition for
'gamma.integral'
gamma.get.xs : <anonymous>: no visible global function definition for
'gamma.mle'
gamma.get.xs : <anonymous>: no visible global function definition for
'gamma.integral'
gamma.signal: no visible global function definition for
'gamma.integral'
gammaM.get.xs : <anonymous>: no visible global function definition for
'gamma.mode'
gammaM.get.xs : <anonymous>: no visible global function definition for
'gamma.mle'
plotNegOob: no visible binding for global variable 'intensity'
plotNegOob: no visible binding for global variable 'channel.probes'
plotNegOob: no visible binding for global variable '..density..'
qc.probe.plot: no visible binding for global variable 'grouping'
qc.probe.plot: no visible binding for global variable 'variable'
qc.probe.plot: no visible binding for global variable 'value'
* checking Rd files ... NOTE
prepare_Rd: estimateM.Rd:34-36: Dropping empty section \seealso
prepare_Rd: estimateM.Rd:37-39: Dropping empty section \examples
prepare_Rd: methylumIDAT.Rd:53-55: Dropping empty section \seealso
* checking Rd metadata ... OK
* checking Rd cross-references ... OK
* checking for missing documentation entries ... OK
* checking for code/documentation mismatches ... OK
* checking Rd \usage sections ... OK
* checking Rd contents ... OK
* checking for unstated dependencies in examples ... OK
* checking contents of 'data' directory ... OK
* checking data for non-ASCII characters ... OK
* checking data for ASCII and uncompressed saves ... OK
* checking examples ... OK
* checking for unstated dependencies in vignettes ... OK
* checking package vignettes in 'inst/doc' ... OK
* checking running R code from vignettes ... SKIPPED
* checking re-building of vignettes ... SKIPPED
* checking PDF version of manual ... OK
* installing *source* package 'methylumi' ...
** R
** data
** inst
** preparing package for lazy loading
in method for 'total.intensity' with signature 'object="MethyLumiSet"': no definition for class "MethyLumiSet"
in method for 'total.intensity' with signature 'object="MethyLumiM"': no definition for class "MethyLumiM"
in method for 'intensitiesByChannel' with signature 'object="MethyLumiSet"': no definition for class "MethyLumiSet"
in method for 'intensitiesByChannel' with signature 'object="MethyLumiM"': no definition for class "MethyLumiM"
in method for 'Cy3.SD' with signature 'object="MethyLumiSet"': no definition for class "MethyLumiSet"
in method for 'Cy3.N' with signature 'object="MethyLumiSet"': no definition for class "MethyLumiSet"
in method for 'Cy5.SD' with signature 'object="MethyLumiSet"': no definition for class "MethyLumiSet"
in method for 'Cy5.N' with signature 'object="MethyLumiSet"': no definition for class "MethyLumiSet"
in method for 'negctls' with signature 'object="MethyLumiSet",channel="character"': no definition for class "MethyLumiSet"
in method for 'negctls' with signature 'object="MethyLumiSet",channel="missing"': no definition for class "MethyLumiSet"
in method for 'negctls' with signature 'object="MethyLumiM",channel="character"': no definition for class "MethyLumiM"
in method for 'negctls' with signature 'object="MethyLumiM",channel="missing"': no definition for class "MethyLumiM"
in method for 'negctls.SD' with signature 'object="MethyLumiSet",channel="character"': no definition for class "MethyLumiSet"
in method for 'negctls.SD' with signature 'object="MethyLumiM",channel="character"': no definition for class "MethyLumiM"
in method for 'negctls.stderr' with signature 'object="MethyLumiSet",channel="character"': no definition for class "MethyLumiSet"
in method for 'negctls.stderr' with signature 'object="MethyLumiSet",channel="missing"': no definition for class "MethyLumiSet"
in method for 'negnorm' with signature 'object="MethyLumiSet",channel="character"': no definition for class "MethyLumiSet"
in method for 'negnorm' with signature 'object="MethyLumiM",channel="character"': no definition for class "MethyLumiM"
in method for 'negnorm' with signature 'object="MethyLumiSet",channel="missing"': no definition for class "MethyLumiSet"
in method for 'negnorm' with signature 'object="MethyLumiM",channel="missing"': no definition for class "MethyLumiM"
in method for 'normctls' with signature 'object="MethyLumiSet"': no definition for class "MethyLumiSet"
in method for 'normctls' with signature 'object="MethyLumiM"': no definition for class "MethyLumiM"
Creating a generic function for 'summary' from package 'base' in package 'methylumi'
** help
*** installing help indices
** building package indices ...
*** tangling vignette sources ...
'methylumi.Rnw'
** testing if installed package can be loaded
* DONE (methylumi)