xcms 1.30.3 Ralf Tautenhahn
Snapshot Date: 2012-03-23 18:21:46 -0700 (Fri, 23 Mar 2012) | URL: https://hedgehog.fhcrc.org/bioconductor/branches/RELEASE_2_9/madman/Rpacks/xcms | Last Changed Rev: 60901 / Revision: 64395 | Last Changed Date: 2011-11-27 08:24:47 -0800 (Sun, 27 Nov 2011) |
| wilson2 | Linux (openSUSE 11.4) / x86_64 | OK | OK | |
moscato1 | Windows Server 2008 R2 Enterprise SP1 (64-bit) / x64 | OK | OK | OK |
pitt | Mac OS X Leopard (10.5.8) / i386 | OK | OK | [ OK ] |
>>>>>>>
>>>>>>> INSTALLATION WITH 'R CMD INSTALL --preclean --no-multiarch --library=xcms.buildbin-libdir xcms_1.30.3.tar.gz'
>>>>>>>
* installing *source* package 'xcms' ...
** libs
*** arch - i386
rm -f massifquant/xcms_massifquant.o massifquant/TrMgr.o massifquant/Tracker.o massifquant/SegProc.o massifquant/DataKeeper.o massifquant/OpOverload.o obiwarp/mat.o obiwarp/vec.o obiwarp/xcms_dynprog.o obiwarp/xcms_lmat.o obiwarp/xcms_obiwarp.o fastMatch.o mzClust_hclust.o mzROI.o netCDF.o ramp_base64.o ramp.o rampR.o util.o xcms.o
g++ -arch i386 -I/Library/Frameworks/R.framework/Resources/include -I/Library/Frameworks/R.framework/Resources/include/i386 -I/usr/local/include -I/sw/include -D_LARGEFILE_SOURCE -I/usr/local/include -fPIC -g -O2 -Wall -fasm-blocks -c massifquant/xcms_massifquant.cpp -o massifquant/xcms_massifquant.o
massifquant/xcms_massifquant.cpp: In function 'SEXPREC* massifquant(SEXPREC*, SEXPREC*, SEXPREC*, SEXPREC*, SEXPREC*, SEXPREC*, SEXPREC*, SEXPREC*, SEXPREC*, SEXPREC*, SEXPREC*, SEXPREC*, SEXPREC*, SEXPREC*)':
massifquant/xcms_massifquant.cpp:33: warning: unused variable 'list_names'
massifquant/xcms_massifquant.cpp:70: warning: unused variable 'maxScanNums'
g++ -arch i386 -I/Library/Frameworks/R.framework/Resources/include -I/Library/Frameworks/R.framework/Resources/include/i386 -I/usr/local/include -I/sw/include -D_LARGEFILE_SOURCE -I/usr/local/include -fPIC -g -O2 -Wall -fasm-blocks -c massifquant/TrMgr.cpp -o massifquant/TrMgr.o
g++ -arch i386 -I/Library/Frameworks/R.framework/Resources/include -I/Library/Frameworks/R.framework/Resources/include/i386 -I/usr/local/include -I/sw/include -D_LARGEFILE_SOURCE -I/usr/local/include -fPIC -g -O2 -Wall -fasm-blocks -c massifquant/Tracker.cpp -o massifquant/Tracker.o
g++ -arch i386 -I/Library/Frameworks/R.framework/Resources/include -I/Library/Frameworks/R.framework/Resources/include/i386 -I/usr/local/include -I/sw/include -D_LARGEFILE_SOURCE -I/usr/local/include -fPIC -g -O2 -Wall -fasm-blocks -c massifquant/SegProc.cpp -o massifquant/SegProc.o
massifquant/SegProc.cpp: In member function 'double SegProc::Rf_pt(double, double, int, int)':
massifquant/SegProc.cpp:358: warning: deprecated conversion from string constant to 'char*'
g++ -arch i386 -I/Library/Frameworks/R.framework/Resources/include -I/Library/Frameworks/R.framework/Resources/include/i386 -I/usr/local/include -I/sw/include -D_LARGEFILE_SOURCE -I/usr/local/include -fPIC -g -O2 -Wall -fasm-blocks -c massifquant/DataKeeper.cpp -o massifquant/DataKeeper.o
g++ -arch i386 -I/Library/Frameworks/R.framework/Resources/include -I/Library/Frameworks/R.framework/Resources/include/i386 -I/usr/local/include -I/sw/include -D_LARGEFILE_SOURCE -I/usr/local/include -fPIC -g -O2 -Wall -fasm-blocks -c massifquant/OpOverload.cpp -o massifquant/OpOverload.o
g++ -arch i386 -I/Library/Frameworks/R.framework/Resources/include -I/Library/Frameworks/R.framework/Resources/include/i386 -I/usr/local/include -I/sw/include -D_LARGEFILE_SOURCE -I/usr/local/include -fPIC -g -O2 -Wall -fasm-blocks -c obiwarp/mat.cpp -o obiwarp/mat.o
g++ -arch i386 -I/Library/Frameworks/R.framework/Resources/include -I/Library/Frameworks/R.framework/Resources/include/i386 -I/usr/local/include -I/sw/include -D_LARGEFILE_SOURCE -I/usr/local/include -fPIC -g -O2 -Wall -fasm-blocks -c obiwarp/vec.cpp -o obiwarp/vec.o
g++ -arch i386 -I/Library/Frameworks/R.framework/Resources/include -I/Library/Frameworks/R.framework/Resources/include/i386 -I/usr/local/include -I/sw/include -D_LARGEFILE_SOURCE -I/usr/local/include -fPIC -g -O2 -Wall -fasm-blocks -c obiwarp/xcms_dynprog.cpp -o obiwarp/xcms_dynprog.o
g++ -arch i386 -I/Library/Frameworks/R.framework/Resources/include -I/Library/Frameworks/R.framework/Resources/include/i386 -I/usr/local/include -I/sw/include -D_LARGEFILE_SOURCE -I/usr/local/include -fPIC -g -O2 -Wall -fasm-blocks -c obiwarp/xcms_lmat.cpp -o obiwarp/xcms_lmat.o
g++ -arch i386 -I/Library/Frameworks/R.framework/Resources/include -I/Library/Frameworks/R.framework/Resources/include/i386 -I/usr/local/include -I/sw/include -D_LARGEFILE_SOURCE -I/usr/local/include -fPIC -g -O2 -Wall -fasm-blocks -c obiwarp/xcms_obiwarp.cpp -o obiwarp/xcms_obiwarp.o
gcc -arch i386 -std=gnu99 -I/Library/Frameworks/R.framework/Resources/include -I/Library/Frameworks/R.framework/Resources/include/i386 -I/usr/local/include -I/sw/include -D_LARGEFILE_SOURCE -I/usr/local/include -fPIC -g -O2 -Wall -pedantic -c fastMatch.c -o fastMatch.o
gcc -arch i386 -std=gnu99 -I/Library/Frameworks/R.framework/Resources/include -I/Library/Frameworks/R.framework/Resources/include/i386 -I/usr/local/include -I/sw/include -D_LARGEFILE_SOURCE -I/usr/local/include -fPIC -g -O2 -Wall -pedantic -c mzClust_hclust.c -o mzClust_hclust.o
gcc -arch i386 -std=gnu99 -I/Library/Frameworks/R.framework/Resources/include -I/Library/Frameworks/R.framework/Resources/include/i386 -I/usr/local/include -I/sw/include -D_LARGEFILE_SOURCE -I/usr/local/include -fPIC -g -O2 -Wall -pedantic -c mzROI.c -o mzROI.o
gcc -arch i386 -std=gnu99 -I/Library/Frameworks/R.framework/Resources/include -I/Library/Frameworks/R.framework/Resources/include/i386 -I/usr/local/include -I/sw/include -D_LARGEFILE_SOURCE -I/usr/local/include -fPIC -g -O2 -Wall -pedantic -c netCDF.c -o netCDF.o
g++ -arch i386 -I/Library/Frameworks/R.framework/Resources/include -I/Library/Frameworks/R.framework/Resources/include/i386 -I/usr/local/include -I/sw/include -D_LARGEFILE_SOURCE -I/usr/local/include -fPIC -g -O2 -Wall -fasm-blocks -c ramp_base64.cpp -o ramp_base64.o
g++ -arch i386 -I/Library/Frameworks/R.framework/Resources/include -I/Library/Frameworks/R.framework/Resources/include/i386 -I/usr/local/include -I/sw/include -D_LARGEFILE_SOURCE -I/usr/local/include -fPIC -g -O2 -Wall -fasm-blocks -c ramp.cpp -o ramp.o
g++ -arch i386 -I/Library/Frameworks/R.framework/Resources/include -I/Library/Frameworks/R.framework/Resources/include/i386 -I/usr/local/include -I/sw/include -D_LARGEFILE_SOURCE -I/usr/local/include -fPIC -g -O2 -Wall -fasm-blocks -c rampR.cpp -o rampR.o
gcc -arch i386 -std=gnu99 -I/Library/Frameworks/R.framework/Resources/include -I/Library/Frameworks/R.framework/Resources/include/i386 -I/usr/local/include -I/sw/include -D_LARGEFILE_SOURCE -I/usr/local/include -fPIC -g -O2 -Wall -pedantic -c util.c -o util.o
gcc -arch i386 -std=gnu99 -I/Library/Frameworks/R.framework/Resources/include -I/Library/Frameworks/R.framework/Resources/include/i386 -I/usr/local/include -I/sw/include -D_LARGEFILE_SOURCE -I/usr/local/include -fPIC -g -O2 -Wall -pedantic -c xcms.c -o xcms.o
g++ -arch i386 -dynamiclib -Wl,-headerpad_max_install_names -undefined dynamic_lookup -single_module -multiply_defined suppress -L/usr/local/lib -o xcms.so massifquant/xcms_massifquant.o massifquant/TrMgr.o massifquant/Tracker.o massifquant/SegProc.o massifquant/DataKeeper.o massifquant/OpOverload.o obiwarp/mat.o obiwarp/vec.o obiwarp/xcms_dynprog.o obiwarp/xcms_lmat.o obiwarp/xcms_obiwarp.o fastMatch.o mzClust_hclust.o mzROI.o netCDF.o ramp_base64.o ramp.o rampR.o util.o xcms.o -L/usr/local/lib -L/sw/lib -L/usr/local/lib -lnetcdf -lhdf5_hl -lhdf5 -lm -lz -lcurl -lz -F/Library/Frameworks/R.framework/.. -framework R -Wl,-framework -Wl,CoreFoundation
installing to /Users/biocbuild/bbs-2.9-bioc/meat/xcms.buildbin-libdir/xcms/libs/i386
** R
** inst
** preparing package for lazy loading
** help
*** installing help indices
** building package indices ...
*** tangling vignette sources ...
'xcmsDirect.Rnw'
'xcmsInstall.Rnw'
'xcmsMSn.Rnw'
'xcmsPreprocess.Rnw'
** testing if installed package can be loaded
* DONE (xcms)
>>>>>>>
>>>>>>> FIXING LINKS FOR xcms.buildbin-libdir/xcms/libs/i386/xcms.so
>>>>>>>
install_name_tool -change "/usr/local/lib/libgcc_s.1.dylib" "/Library/Frameworks/R.framework/Versions/2.14/Resources/lib/libgcc_s.1.dylib" "xcms.buildbin-libdir/xcms/libs/i386/xcms.so"
install_name_tool -change "/usr/local/lib/libgfortran.2.dylib" "/Library/Frameworks/R.framework/Versions/2.14/Resources/lib/libgfortran.2.dylib" "xcms.buildbin-libdir/xcms/libs/i386/xcms.so"
install_name_tool -change "/usr/local/lib/libreadline.5.2.dylib" "/Library/Frameworks/R.framework/Versions/2.14/Resources/lib/libreadline.5.2.dylib" "xcms.buildbin-libdir/xcms/libs/i386/xcms.so"
install_name_tool -change "/usr/local/lib/libreadline.dylib" "/Library/Frameworks/R.framework/Versions/2.14/Resources/lib/libreadline.dylib" "xcms.buildbin-libdir/xcms/libs/i386/xcms.so"
>>>>>>>
>>>>>>> INSTALLATION OF ppc LIBS WITH 'R_ARCH=/ppc R CMD INSTALL --preclean --no-multiarch --no-test-load --library=xcms.buildbin-libdir --libs-only xcms_1.30.3.tar.gz'
>>>>>>>
* installing *source* package 'xcms' ...
** libs
*** arch - ppc
rm -f massifquant/xcms_massifquant.o massifquant/TrMgr.o massifquant/Tracker.o massifquant/SegProc.o massifquant/DataKeeper.o massifquant/OpOverload.o obiwarp/mat.o obiwarp/vec.o obiwarp/xcms_dynprog.o obiwarp/xcms_lmat.o obiwarp/xcms_obiwarp.o fastMatch.o mzClust_hclust.o mzROI.o netCDF.o ramp_base64.o ramp.o rampR.o util.o xcms.o
g++ -arch ppc -I/Library/Frameworks/R.framework/Resources/include -I/Library/Frameworks/R.framework/Resources/include/ppc -I/usr/local/include -I/sw/include -D_LARGEFILE_SOURCE -I/usr/local/include -fPIC -g -O2 -Wall -fasm-blocks -c massifquant/xcms_massifquant.cpp -o massifquant/xcms_massifquant.o
massifquant/xcms_massifquant.cpp: In function 'SEXPREC* massifquant(SEXPREC*, SEXPREC*, SEXPREC*, SEXPREC*, SEXPREC*, SEXPREC*, SEXPREC*, SEXPREC*, SEXPREC*, SEXPREC*, SEXPREC*, SEXPREC*, SEXPREC*, SEXPREC*)':
massifquant/xcms_massifquant.cpp:33: warning: unused variable 'list_names'
massifquant/xcms_massifquant.cpp:70: warning: unused variable 'maxScanNums'
g++ -arch ppc -I/Library/Frameworks/R.framework/Resources/include -I/Library/Frameworks/R.framework/Resources/include/ppc -I/usr/local/include -I/sw/include -D_LARGEFILE_SOURCE -I/usr/local/include -fPIC -g -O2 -Wall -fasm-blocks -c massifquant/TrMgr.cpp -o massifquant/TrMgr.o
g++ -arch ppc -I/Library/Frameworks/R.framework/Resources/include -I/Library/Frameworks/R.framework/Resources/include/ppc -I/usr/local/include -I/sw/include -D_LARGEFILE_SOURCE -I/usr/local/include -fPIC -g -O2 -Wall -fasm-blocks -c massifquant/Tracker.cpp -o massifquant/Tracker.o
g++ -arch ppc -I/Library/Frameworks/R.framework/Resources/include -I/Library/Frameworks/R.framework/Resources/include/ppc -I/usr/local/include -I/sw/include -D_LARGEFILE_SOURCE -I/usr/local/include -fPIC -g -O2 -Wall -fasm-blocks -c massifquant/SegProc.cpp -o massifquant/SegProc.o
massifquant/SegProc.cpp: In member function 'double SegProc::Rf_pt(double, double, int, int)':
massifquant/SegProc.cpp:358: warning: deprecated conversion from string constant to 'char*'
g++ -arch ppc -I/Library/Frameworks/R.framework/Resources/include -I/Library/Frameworks/R.framework/Resources/include/ppc -I/usr/local/include -I/sw/include -D_LARGEFILE_SOURCE -I/usr/local/include -fPIC -g -O2 -Wall -fasm-blocks -c massifquant/DataKeeper.cpp -o massifquant/DataKeeper.o
g++ -arch ppc -I/Library/Frameworks/R.framework/Resources/include -I/Library/Frameworks/R.framework/Resources/include/ppc -I/usr/local/include -I/sw/include -D_LARGEFILE_SOURCE -I/usr/local/include -fPIC -g -O2 -Wall -fasm-blocks -c massifquant/OpOverload.cpp -o massifquant/OpOverload.o
g++ -arch ppc -I/Library/Frameworks/R.framework/Resources/include -I/Library/Frameworks/R.framework/Resources/include/ppc -I/usr/local/include -I/sw/include -D_LARGEFILE_SOURCE -I/usr/local/include -fPIC -g -O2 -Wall -fasm-blocks -c obiwarp/mat.cpp -o obiwarp/mat.o
g++ -arch ppc -I/Library/Frameworks/R.framework/Resources/include -I/Library/Frameworks/R.framework/Resources/include/ppc -I/usr/local/include -I/sw/include -D_LARGEFILE_SOURCE -I/usr/local/include -fPIC -g -O2 -Wall -fasm-blocks -c obiwarp/vec.cpp -o obiwarp/vec.o
g++ -arch ppc -I/Library/Frameworks/R.framework/Resources/include -I/Library/Frameworks/R.framework/Resources/include/ppc -I/usr/local/include -I/sw/include -D_LARGEFILE_SOURCE -I/usr/local/include -fPIC -g -O2 -Wall -fasm-blocks -c obiwarp/xcms_dynprog.cpp -o obiwarp/xcms_dynprog.o
g++ -arch ppc -I/Library/Frameworks/R.framework/Resources/include -I/Library/Frameworks/R.framework/Resources/include/ppc -I/usr/local/include -I/sw/include -D_LARGEFILE_SOURCE -I/usr/local/include -fPIC -g -O2 -Wall -fasm-blocks -c obiwarp/xcms_lmat.cpp -o obiwarp/xcms_lmat.o
g++ -arch ppc -I/Library/Frameworks/R.framework/Resources/include -I/Library/Frameworks/R.framework/Resources/include/ppc -I/usr/local/include -I/sw/include -D_LARGEFILE_SOURCE -I/usr/local/include -fPIC -g -O2 -Wall -fasm-blocks -c obiwarp/xcms_obiwarp.cpp -o obiwarp/xcms_obiwarp.o
gcc -arch ppc -std=gnu99 -I/Library/Frameworks/R.framework/Resources/include -I/Library/Frameworks/R.framework/Resources/include/ppc -I/usr/local/include -I/sw/include -D_LARGEFILE_SOURCE -I/usr/local/include -fPIC -g -O2 -Wall -pedantic -c fastMatch.c -o fastMatch.o
gcc -arch ppc -std=gnu99 -I/Library/Frameworks/R.framework/Resources/include -I/Library/Frameworks/R.framework/Resources/include/ppc -I/usr/local/include -I/sw/include -D_LARGEFILE_SOURCE -I/usr/local/include -fPIC -g -O2 -Wall -pedantic -c mzClust_hclust.c -o mzClust_hclust.o
gcc -arch ppc -std=gnu99 -I/Library/Frameworks/R.framework/Resources/include -I/Library/Frameworks/R.framework/Resources/include/ppc -I/usr/local/include -I/sw/include -D_LARGEFILE_SOURCE -I/usr/local/include -fPIC -g -O2 -Wall -pedantic -c mzROI.c -o mzROI.o
gcc -arch ppc -std=gnu99 -I/Library/Frameworks/R.framework/Resources/include -I/Library/Frameworks/R.framework/Resources/include/ppc -I/usr/local/include -I/sw/include -D_LARGEFILE_SOURCE -I/usr/local/include -fPIC -g -O2 -Wall -pedantic -c netCDF.c -o netCDF.o
g++ -arch ppc -I/Library/Frameworks/R.framework/Resources/include -I/Library/Frameworks/R.framework/Resources/include/ppc -I/usr/local/include -I/sw/include -D_LARGEFILE_SOURCE -I/usr/local/include -fPIC -g -O2 -Wall -fasm-blocks -c ramp_base64.cpp -o ramp_base64.o
g++ -arch ppc -I/Library/Frameworks/R.framework/Resources/include -I/Library/Frameworks/R.framework/Resources/include/ppc -I/usr/local/include -I/sw/include -D_LARGEFILE_SOURCE -I/usr/local/include -fPIC -g -O2 -Wall -fasm-blocks -c ramp.cpp -o ramp.o
g++ -arch ppc -I/Library/Frameworks/R.framework/Resources/include -I/Library/Frameworks/R.framework/Resources/include/ppc -I/usr/local/include -I/sw/include -D_LARGEFILE_SOURCE -I/usr/local/include -fPIC -g -O2 -Wall -fasm-blocks -c rampR.cpp -o rampR.o
gcc -arch ppc -std=gnu99 -I/Library/Frameworks/R.framework/Resources/include -I/Library/Frameworks/R.framework/Resources/include/ppc -I/usr/local/include -I/sw/include -D_LARGEFILE_SOURCE -I/usr/local/include -fPIC -g -O2 -Wall -pedantic -c util.c -o util.o
gcc -arch ppc -std=gnu99 -I/Library/Frameworks/R.framework/Resources/include -I/Library/Frameworks/R.framework/Resources/include/ppc -I/usr/local/include -I/sw/include -D_LARGEFILE_SOURCE -I/usr/local/include -fPIC -g -O2 -Wall -pedantic -c xcms.c -o xcms.o
g++ -arch ppc -dynamiclib -Wl,-headerpad_max_install_names -undefined dynamic_lookup -single_module -multiply_defined suppress -L/usr/local/lib -o xcms.so massifquant/xcms_massifquant.o massifquant/TrMgr.o massifquant/Tracker.o massifquant/SegProc.o massifquant/DataKeeper.o massifquant/OpOverload.o obiwarp/mat.o obiwarp/vec.o obiwarp/xcms_dynprog.o obiwarp/xcms_lmat.o obiwarp/xcms_obiwarp.o fastMatch.o mzClust_hclust.o mzROI.o netCDF.o ramp_base64.o ramp.o rampR.o util.o xcms.o -L/usr/local/lib -L/sw/lib -L/usr/local/lib -lnetcdf -lhdf5_hl -lhdf5 -lm -lz -lcurl -lz -F/Library/Frameworks/R.framework/.. -framework R -Wl,-framework -Wl,CoreFoundation
installing to /Users/biocbuild/bbs-2.9-bioc/meat/xcms.buildbin-libdir/xcms/libs/ppc
* DONE (xcms)
>>>>>>>
>>>>>>> FIXING LINKS FOR xcms.buildbin-libdir/xcms/libs/ppc/xcms.so
>>>>>>>
install_name_tool -change "/usr/local/lib/libgcc_s.1.dylib" "/Library/Frameworks/R.framework/Versions/2.14/Resources/lib/libgcc_s.1.dylib" "xcms.buildbin-libdir/xcms/libs/ppc/xcms.so"
install_name_tool -change "/usr/local/lib/libgfortran.2.dylib" "/Library/Frameworks/R.framework/Versions/2.14/Resources/lib/libgfortran.2.dylib" "xcms.buildbin-libdir/xcms/libs/ppc/xcms.so"
install_name_tool -change "/usr/local/lib/libreadline.5.2.dylib" "/Library/Frameworks/R.framework/Versions/2.14/Resources/lib/libreadline.5.2.dylib" "xcms.buildbin-libdir/xcms/libs/ppc/xcms.so"
install_name_tool -change "/usr/local/lib/libreadline.dylib" "/Library/Frameworks/R.framework/Versions/2.14/Resources/lib/libreadline.dylib" "xcms.buildbin-libdir/xcms/libs/ppc/xcms.so"
>>>>>>>
>>>>>>> INSTALLATION OF x86_64 LIBS WITH 'R_ARCH=/x86_64 R CMD INSTALL --preclean --no-multiarch --no-test-load --library=xcms.buildbin-libdir --libs-only xcms_1.30.3.tar.gz'
>>>>>>>
* installing *source* package 'xcms' ...
** libs
*** arch - x86_64
rm -f massifquant/xcms_massifquant.o massifquant/TrMgr.o massifquant/Tracker.o massifquant/SegProc.o massifquant/DataKeeper.o massifquant/OpOverload.o obiwarp/mat.o obiwarp/vec.o obiwarp/xcms_dynprog.o obiwarp/xcms_lmat.o obiwarp/xcms_obiwarp.o fastMatch.o mzClust_hclust.o mzROI.o netCDF.o ramp_base64.o ramp.o rampR.o util.o xcms.o
g++ -arch x86_64 -I/Library/Frameworks/R.framework/Resources/include -I/Library/Frameworks/R.framework/Resources/include/x86_64 -I/usr/local/include -I/sw/include -D_LARGEFILE_SOURCE -I/usr/local/include -fPIC -g -O2 -Wall -fasm-blocks -c massifquant/xcms_massifquant.cpp -o massifquant/xcms_massifquant.o
massifquant/xcms_massifquant.cpp: In function 'SEXPREC* massifquant(SEXPREC*, SEXPREC*, SEXPREC*, SEXPREC*, SEXPREC*, SEXPREC*, SEXPREC*, SEXPREC*, SEXPREC*, SEXPREC*, SEXPREC*, SEXPREC*, SEXPREC*, SEXPREC*)':
massifquant/xcms_massifquant.cpp:33: warning: unused variable 'list_names'
massifquant/xcms_massifquant.cpp:70: warning: unused variable 'maxScanNums'
g++ -arch x86_64 -I/Library/Frameworks/R.framework/Resources/include -I/Library/Frameworks/R.framework/Resources/include/x86_64 -I/usr/local/include -I/sw/include -D_LARGEFILE_SOURCE -I/usr/local/include -fPIC -g -O2 -Wall -fasm-blocks -c massifquant/TrMgr.cpp -o massifquant/TrMgr.o
g++ -arch x86_64 -I/Library/Frameworks/R.framework/Resources/include -I/Library/Frameworks/R.framework/Resources/include/x86_64 -I/usr/local/include -I/sw/include -D_LARGEFILE_SOURCE -I/usr/local/include -fPIC -g -O2 -Wall -fasm-blocks -c massifquant/Tracker.cpp -o massifquant/Tracker.o
g++ -arch x86_64 -I/Library/Frameworks/R.framework/Resources/include -I/Library/Frameworks/R.framework/Resources/include/x86_64 -I/usr/local/include -I/sw/include -D_LARGEFILE_SOURCE -I/usr/local/include -fPIC -g -O2 -Wall -fasm-blocks -c massifquant/SegProc.cpp -o massifquant/SegProc.o
massifquant/SegProc.cpp: In member function 'double SegProc::Rf_pt(double, double, int, int)':
massifquant/SegProc.cpp:358: warning: deprecated conversion from string constant to 'char*'
g++ -arch x86_64 -I/Library/Frameworks/R.framework/Resources/include -I/Library/Frameworks/R.framework/Resources/include/x86_64 -I/usr/local/include -I/sw/include -D_LARGEFILE_SOURCE -I/usr/local/include -fPIC -g -O2 -Wall -fasm-blocks -c massifquant/DataKeeper.cpp -o massifquant/DataKeeper.o
g++ -arch x86_64 -I/Library/Frameworks/R.framework/Resources/include -I/Library/Frameworks/R.framework/Resources/include/x86_64 -I/usr/local/include -I/sw/include -D_LARGEFILE_SOURCE -I/usr/local/include -fPIC -g -O2 -Wall -fasm-blocks -c massifquant/OpOverload.cpp -o massifquant/OpOverload.o
g++ -arch x86_64 -I/Library/Frameworks/R.framework/Resources/include -I/Library/Frameworks/R.framework/Resources/include/x86_64 -I/usr/local/include -I/sw/include -D_LARGEFILE_SOURCE -I/usr/local/include -fPIC -g -O2 -Wall -fasm-blocks -c obiwarp/mat.cpp -o obiwarp/mat.o
g++ -arch x86_64 -I/Library/Frameworks/R.framework/Resources/include -I/Library/Frameworks/R.framework/Resources/include/x86_64 -I/usr/local/include -I/sw/include -D_LARGEFILE_SOURCE -I/usr/local/include -fPIC -g -O2 -Wall -fasm-blocks -c obiwarp/vec.cpp -o obiwarp/vec.o
g++ -arch x86_64 -I/Library/Frameworks/R.framework/Resources/include -I/Library/Frameworks/R.framework/Resources/include/x86_64 -I/usr/local/include -I/sw/include -D_LARGEFILE_SOURCE -I/usr/local/include -fPIC -g -O2 -Wall -fasm-blocks -c obiwarp/xcms_dynprog.cpp -o obiwarp/xcms_dynprog.o
g++ -arch x86_64 -I/Library/Frameworks/R.framework/Resources/include -I/Library/Frameworks/R.framework/Resources/include/x86_64 -I/usr/local/include -I/sw/include -D_LARGEFILE_SOURCE -I/usr/local/include -fPIC -g -O2 -Wall -fasm-blocks -c obiwarp/xcms_lmat.cpp -o obiwarp/xcms_lmat.o
g++ -arch x86_64 -I/Library/Frameworks/R.framework/Resources/include -I/Library/Frameworks/R.framework/Resources/include/x86_64 -I/usr/local/include -I/sw/include -D_LARGEFILE_SOURCE -I/usr/local/include -fPIC -g -O2 -Wall -fasm-blocks -c obiwarp/xcms_obiwarp.cpp -o obiwarp/xcms_obiwarp.o
gcc -arch x86_64 -std=gnu99 -I/Library/Frameworks/R.framework/Resources/include -I/Library/Frameworks/R.framework/Resources/include/x86_64 -I/usr/local/include -I/sw/include -D_LARGEFILE_SOURCE -I/usr/local/include -fPIC -g -O2 -Wall -pedantic -c fastMatch.c -o fastMatch.o
gcc -arch x86_64 -std=gnu99 -I/Library/Frameworks/R.framework/Resources/include -I/Library/Frameworks/R.framework/Resources/include/x86_64 -I/usr/local/include -I/sw/include -D_LARGEFILE_SOURCE -I/usr/local/include -fPIC -g -O2 -Wall -pedantic -c mzClust_hclust.c -o mzClust_hclust.o
gcc -arch x86_64 -std=gnu99 -I/Library/Frameworks/R.framework/Resources/include -I/Library/Frameworks/R.framework/Resources/include/x86_64 -I/usr/local/include -I/sw/include -D_LARGEFILE_SOURCE -I/usr/local/include -fPIC -g -O2 -Wall -pedantic -c mzROI.c -o mzROI.o
gcc -arch x86_64 -std=gnu99 -I/Library/Frameworks/R.framework/Resources/include -I/Library/Frameworks/R.framework/Resources/include/x86_64 -I/usr/local/include -I/sw/include -D_LARGEFILE_SOURCE -I/usr/local/include -fPIC -g -O2 -Wall -pedantic -c netCDF.c -o netCDF.o
g++ -arch x86_64 -I/Library/Frameworks/R.framework/Resources/include -I/Library/Frameworks/R.framework/Resources/include/x86_64 -I/usr/local/include -I/sw/include -D_LARGEFILE_SOURCE -I/usr/local/include -fPIC -g -O2 -Wall -fasm-blocks -c ramp_base64.cpp -o ramp_base64.o
g++ -arch x86_64 -I/Library/Frameworks/R.framework/Resources/include -I/Library/Frameworks/R.framework/Resources/include/x86_64 -I/usr/local/include -I/sw/include -D_LARGEFILE_SOURCE -I/usr/local/include -fPIC -g -O2 -Wall -fasm-blocks -c ramp.cpp -o ramp.o
g++ -arch x86_64 -I/Library/Frameworks/R.framework/Resources/include -I/Library/Frameworks/R.framework/Resources/include/x86_64 -I/usr/local/include -I/sw/include -D_LARGEFILE_SOURCE -I/usr/local/include -fPIC -g -O2 -Wall -fasm-blocks -c rampR.cpp -o rampR.o
gcc -arch x86_64 -std=gnu99 -I/Library/Frameworks/R.framework/Resources/include -I/Library/Frameworks/R.framework/Resources/include/x86_64 -I/usr/local/include -I/sw/include -D_LARGEFILE_SOURCE -I/usr/local/include -fPIC -g -O2 -Wall -pedantic -c util.c -o util.o
gcc -arch x86_64 -std=gnu99 -I/Library/Frameworks/R.framework/Resources/include -I/Library/Frameworks/R.framework/Resources/include/x86_64 -I/usr/local/include -I/sw/include -D_LARGEFILE_SOURCE -I/usr/local/include -fPIC -g -O2 -Wall -pedantic -c xcms.c -o xcms.o
g++ -arch x86_64 -dynamiclib -Wl,-headerpad_max_install_names -undefined dynamic_lookup -single_module -multiply_defined suppress -L/usr/local/lib -o xcms.so massifquant/xcms_massifquant.o massifquant/TrMgr.o massifquant/Tracker.o massifquant/SegProc.o massifquant/DataKeeper.o massifquant/OpOverload.o obiwarp/mat.o obiwarp/vec.o obiwarp/xcms_dynprog.o obiwarp/xcms_lmat.o obiwarp/xcms_obiwarp.o fastMatch.o mzClust_hclust.o mzROI.o netCDF.o ramp_base64.o ramp.o rampR.o util.o xcms.o -L/usr/local/lib -L/sw/lib -L/usr/local/lib -lnetcdf -lhdf5_hl -lhdf5 -lm -lz -lcurl -lz -F/Library/Frameworks/R.framework/.. -framework R -Wl,-framework -Wl,CoreFoundation
installing to /Users/biocbuild/bbs-2.9-bioc/meat/xcms.buildbin-libdir/xcms/libs/x86_64
* DONE (xcms)
>>>>>>>
>>>>>>> FIXING LINKS FOR xcms.buildbin-libdir/xcms/libs/x86_64/xcms.so
>>>>>>>
install_name_tool -change "/usr/local/lib/libgcc_s.1.dylib" "/Library/Frameworks/R.framework/Versions/2.14/Resources/lib/libgcc_s.1.dylib" "xcms.buildbin-libdir/xcms/libs/x86_64/xcms.so"
install_name_tool -change "/usr/local/lib/libgfortran.2.dylib" "/Library/Frameworks/R.framework/Versions/2.14/Resources/lib/libgfortran.2.dylib" "xcms.buildbin-libdir/xcms/libs/x86_64/xcms.so"
install_name_tool -change "/usr/local/lib/libreadline.5.2.dylib" "/Library/Frameworks/R.framework/Versions/2.14/Resources/lib/libreadline.5.2.dylib" "xcms.buildbin-libdir/xcms/libs/x86_64/xcms.so"
install_name_tool -change "/usr/local/lib/libreadline.dylib" "/Library/Frameworks/R.framework/Versions/2.14/Resources/lib/libreadline.dylib" "xcms.buildbin-libdir/xcms/libs/x86_64/xcms.so"