Back to the "Multiple platform build/check report"

Package 40/98HostnameOS / ArchBUILDCHECKBUILD BIN
GGdata 1.0.13
VJ Carey
Snapshot Date: 2011-07-06 11:15:18 -0700 (Wed, 06 Jul 2011)
URL: https://hedgehog.fhcrc.org/bioc-data/trunk/experiment/pkgs/GGdata
Last Changed Rev: 1622 / Revision: 1678
Last Changed Date: 2011-06-01 10:22:02 -0700 (Wed, 01 Jun 2011)
wilson2 Linux (openSUSE 11.4) / x86_64  OK  OK 
liverpool Windows Server 2003 R2 (32-bit) / x64  OK  OK [ OK ]
pitt Mac OS X Leopard (10.5.8) / i386  OK  OK  OK 

Summary

Package: GGdata
Version: 1.0.13
Command: mkdir GGdata.buildbin-libdir && E:\biocbld\bbs-2.9-bioc\R\bin\R.exe CMD INSTALL --build --no-multiarch --library=GGdata.buildbin-libdir GGdata_1.0.13.tar.gz
StartedAt: 2011-07-06 16:53:23 -0700 (Wed, 06 Jul 2011)
EndedAt: 2011-07-06 16:54:26 -0700 (Wed, 06 Jul 2011)
EllapsedTime: 62.2 seconds
RetCode: 0
Status:  OK  
PackageFile: GGdata_1.0.13.zip
PackageFileSize: 80.82 MiB

Command output

* installing *source* package 'GGdata' ...
** R
** data
** inst
** preparing package for lazy loading

Welcome to Bioconductor

  Vignettes contain introductory material. To view, type
  'browseVignettes()'. To cite Bioconductor, see
  'citation("Biobase")' and for packages 'citation("pkgname")'.

Loading required package: snpStats
Loading required package: survival
Loading required package: splines
Loading required package: Matrix
Loading required package: lattice

Attaching package: 'Matrix'

The following object(s) are masked from 'package:base':

    det

Loading required package: RSQLite
Loading required package: DBI
Loading required package: AnnotationDbi
Loading required package: org.Hs.eg.db


** help
*** installing help indices
** building package indices ...
** testing if installed package can be loaded
To get a tailored smlSet, use getSS("GGdata", [chrvec]) 
available chromosomes are named  1 10 ... X Y 
* MD5 sums
packaged installation of 'GGdata' as GGdata_1.0.13.zip

* DONE (GGdata)