Back to the "Multiple platform build/check report" |
Package 72/98 | Hostname | OS / Arch | BUILD | CHECK | BUILD BIN | ||||
MEEBOdata 1.0.0 Agnes Paquet
| wilson2 | Linux (openSUSE 11.4) / x86_64 | OK | OK | |||||
liverpool | Windows Server 2003 R2 (32-bit) / x64 | OK | OK | [ OK ] | |||||
pitt | Mac OS X Leopard (10.5.8) / i386 | OK | OK | OK |
Package: MEEBOdata |
Version: 1.0.0 |
Command: mkdir MEEBOdata.buildbin-libdir && E:\biocbld\bbs-2.9-bioc\R\bin\R.exe CMD INSTALL --build --no-multiarch --library=MEEBOdata.buildbin-libdir MEEBOdata_1.0.0.tar.gz |
StartedAt: 2011-07-06 17:12:40 -0700 (Wed, 06 Jul 2011) |
EndedAt: 2011-07-06 17:12:49 -0700 (Wed, 06 Jul 2011) |
EllapsedTime: 9.2 seconds |
RetCode: 0 |
Status: OK |
PackageFile: MEEBOdata_1.0.0.zip |
PackageFileSize: 6.875 MiB |
* installing *source* package 'MEEBOdata' ... ** data ** inst ** help *** installing help indices ** building package indices ... ** testing if installed package can be loaded * MD5 sums packaged installation of 'MEEBOdata' as MEEBOdata_1.0.0.zip * DONE (MEEBOdata)