affydata 1.11.11 Harris Jaffee
Snapshot Date: 2011-07-06 11:15:18 -0700 (Wed, 06 Jul 2011) | URL: https://hedgehog.fhcrc.org/bioc-data/trunk/experiment/pkgs/affydata | Last Changed Rev: 1455 / Revision: 1678 | Last Changed Date: 2011-03-15 08:05:02 -0700 (Tue, 15 Mar 2011) |
| wilson2 | Linux (openSUSE 11.4) / x86_64 | OK | OK | |
liverpool | Windows Server 2003 R2 (32-bit) / x64 | OK | OK | [ OK ] |
pitt | Mac OS X Leopard (10.5.8) / i386 | OK | OK | OK |
* installing *source* package 'affydata' ...
** R
** data
** inst
** preparing package for lazy loading
Loading required package: Biobase
Welcome to Bioconductor
Vignettes contain introductory material. To view, type
'browseVignettes()'. To cite Bioconductor, see
'citation("Biobase")' and for packages 'citation("pkgname")'.
** help
*** installing help indices
** building package indices ...
*** tangling vignette sources ...
'affydata.Rnw'
** testing if installed package can be loaded
Package
[1,] "affydata"
LibPath
[1,] "E:/biocbld/bbs-2.9-data-experiment/meat/affydata.buildbin-libdir"
Item Title
[1,] "Dilution" "AffyBatch instance Dilution"
* MD5 sums
packaged installation of 'affydata' as affydata_1.11.11.zip
* DONE (affydata)