breastCancerTRANSBIG 0.99.0 Markus Schroeder , Benjamin Haibe-Kains
Snapshot Date: 2011-07-06 11:15:18 -0700 (Wed, 06 Jul 2011) | URL: https://hedgehog.fhcrc.org/bioc-data/trunk/experiment/pkgs/breastCancerTRANSBIG | Last Changed Rev: 1501 / Revision: 1678 | Last Changed Date: 2011-04-05 22:07:15 -0700 (Tue, 05 Apr 2011) |
| wilson2 | Linux (openSUSE 11.4) / x86_64 | OK | OK | |
liverpool | Windows Server 2003 R2 (32-bit) / x64 | OK | OK | [ OK ] |
pitt | Mac OS X Leopard (10.5.8) / i386 | OK | OK | OK |
* installing *source* package 'breastCancerTRANSBIG' ...
** data
** help
*** installing help indices
** building package indices ...
** testing if installed package can be loaded
* MD5 sums
packaged installation of 'breastCancerTRANSBIG' as breastCancerTRANSBIG_0.99.0.zip
* DONE (breastCancerTRANSBIG)