Back to the "Multiple platform build/check report" |
Package 13/98 | Hostname | OS / Arch | BUILD | CHECK | BUILD BIN | ||||
breastCancerVDX 0.99.0 Markus Schroeder
| wilson2 | Linux (openSUSE 11.4) / x86_64 | OK | OK | |||||
liverpool | Windows Server 2003 R2 (32-bit) / x64 | OK | OK | [ OK ] | |||||
pitt | Mac OS X Leopard (10.5.8) / i386 | OK | OK | OK |
Package: breastCancerVDX |
Version: 0.99.0 |
Command: mkdir breastCancerVDX.buildbin-libdir && E:\biocbld\bbs-2.9-bioc\R\bin\R.exe CMD INSTALL --build --no-multiarch --library=breastCancerVDX.buildbin-libdir breastCancerVDX_0.99.0.tar.gz |
StartedAt: 2011-07-06 16:35:21 -0700 (Wed, 06 Jul 2011) |
EndedAt: 2011-07-06 16:35:36 -0700 (Wed, 06 Jul 2011) |
EllapsedTime: 14.9 seconds |
RetCode: 0 |
Status: OK |
PackageFile: breastCancerVDX_0.99.0.zip |
PackageFileSize: 39.53 MiB |
* installing *source* package 'breastCancerVDX' ... ** data ** help *** installing help indices ** building package indices ... ** testing if installed package can be loaded * MD5 sums packaged installation of 'breastCancerVDX' as breastCancerVDX_0.99.0.zip * DONE (breastCancerVDX)