Back to the "Multiple platform build/check report" |
Package 26/120 | Hostname | OS / Arch | BUILD | CHECK | BUILD BIN | ||||
cnvGSAdata 0.99.1 Robert Ziman
| wilson2 | Linux (openSUSE 11.4) / x86_64 | OK | ERROR | |||||
moscato1 | Windows Server 2008 R2 Enterprise SP1 (64-bit) / x64 | OK | [ ERROR ] | ERROR | |||||
pitt | Mac OS X Leopard (10.5.8) / i386 | OK | ERROR | ERROR |
Package: cnvGSAdata |
Version: 0.99.1 |
Command: rm -rf cnvGSAdata.buildbin-libdir && mkdir cnvGSAdata.buildbin-libdir && D:\biocbld\bbs-2.9-bioc\R\bin\R.exe CMD INSTALL --build --merge-multiarch --library=cnvGSAdata.buildbin-libdir cnvGSAdata_0.99.1.tar.gz >cnvGSAdata-install.out 2>&1 && D:\biocbld\bbs-2.9-bioc\R\bin\R.exe CMD check --library=cnvGSAdata.buildbin-libdir --install="check:cnvGSAdata-install.out" --force-multiarch --no-vignettes --timings cnvGSAdata_0.99.1.tar.gz && mv cnvGSAdata.buildbin-libdir/* cnvGSAdata.Rcheck/ && rmdir cnvGSAdata.buildbin-libdir |
StartedAt: 2012-03-23 13:56:12 -0700 (Fri, 23 Mar 2012) |
EndedAt: 2012-03-23 13:56:57 -0700 (Fri, 23 Mar 2012) |
EllapsedTime: 45.4 seconds |
RetCode: 1 |
Status: ERROR |
CheckDir: None |
Warnings: NA |