dressCheck 0.1.1 Vincent Carey
Snapshot Date: 2011-07-06 11:15:18 -0700 (Wed, 06 Jul 2011) | URL: https://hedgehog.fhcrc.org/bioc-data/trunk/experiment/pkgs/dressCheck | Last Changed Rev: 1515 / Revision: 1678 | Last Changed Date: 2011-04-07 07:44:21 -0700 (Thu, 07 Apr 2011) |
| wilson2 | Linux (openSUSE 11.4) / x86_64 | OK | OK | |
liverpool | Windows Server 2003 R2 (32-bit) / x64 | [ OK ] | WARNINGS | OK |
pitt | Mac OS X Leopard (10.5.8) / i386 | OK | OK | OK |
* checking for file 'dressCheck/DESCRIPTION' ... OK
* preparing 'dressCheck':
* checking DESCRIPTION meta-information ... OK
* installing the package to re-build vignettes
* creating vignettes ... OK
* checking for LF line-endings in source and make files
* checking for empty or unneeded directories
WARNING: directory 'dressCheck/inst/rev0809' is empty
* looking to see if a 'data/datalist' file should be added
* building 'dressCheck_0.1.1.tar.gz'