flowWorkspaceData 0.99.4 Greg Finak
Snapshot Date: 2011-07-06 11:15:18 -0700 (Wed, 06 Jul 2011) | URL: https://hedgehog.fhcrc.org/bioc-data/trunk/experiment/pkgs/flowWorkspaceData | Last Changed Rev: 1602 / Revision: 1678 | Last Changed Date: 2011-05-12 13:02:38 -0700 (Thu, 12 May 2011) |
| wilson2 | Linux (openSUSE 11.4) / x86_64 | OK | OK | |
liverpool | Windows Server 2003 R2 (32-bit) / x64 | OK | OK | [ OK ] |
pitt | Mac OS X Leopard (10.5.8) / i386 | OK | OK | OK |
* installing *source* package 'flowWorkspaceData' ...
** R
** inst
** preparing package for lazy loading
** help
*** installing help indices
** building package indices ...
** testing if installed package can be loaded
* MD5 sums
packaged installation of 'flowWorkspaceData' as flowWorkspaceData_0.99.4.zip
* DONE (flowWorkspaceData)