Back to the "Multiple platform build/check report"

Package 39/98HostnameOS / ArchBUILDCHECKBUILD BIN
geneLenDataBase 0.99.7
Matthew Young
Snapshot Date: 2011-07-06 11:15:18 -0700 (Wed, 06 Jul 2011)
URL: https://hedgehog.fhcrc.org/bioc-data/trunk/experiment/pkgs/geneLenDataBase
Last Changed Rev: 1487 / Revision: 1678
Last Changed Date: 2011-03-29 20:53:14 -0700 (Tue, 29 Mar 2011)
wilson2 Linux (openSUSE 11.4) / x86_64  OK  WARNINGS 
liverpool Windows Server 2003 R2 (32-bit) / x64  OK  WARNINGS [ OK ]
pitt Mac OS X Leopard (10.5.8) / i386  OK  WARNINGS  OK 

Summary

Package: geneLenDataBase
Version: 0.99.7
Command: mkdir geneLenDataBase.buildbin-libdir && E:\biocbld\bbs-2.9-bioc\R\bin\R.exe CMD INSTALL --build --no-multiarch --library=geneLenDataBase.buildbin-libdir geneLenDataBase_0.99.7.tar.gz
StartedAt: 2011-07-06 16:52:19 -0700 (Wed, 06 Jul 2011)
EndedAt: 2011-07-06 16:53:35 -0700 (Wed, 06 Jul 2011)
EllapsedTime: 76.7 seconds
RetCode: 0
Status:  OK  
PackageFile: geneLenDataBase_0.99.7.zip
PackageFileSize: 96.09 MiB

Command output

* installing *source* package 'geneLenDataBase' ...
** R
** data
** preparing package for lazy loading
** help
*** installing help indices
** building package indices ...
** testing if installed package can be loaded
* MD5 sums
packaged installation of 'geneLenDataBase' as geneLenDataBase_0.99.7.zip

* DONE (geneLenDataBase)