Back to the "Multiple platform build/check report"

Package 56/98HostnameOS / ArchBUILDCHECKBUILD BIN
hgu2beta7 1.2.2
Biocore Team c/o BioC user list
Snapshot Date: 2011-07-06 11:15:18 -0700 (Wed, 06 Jul 2011)
URL: https://hedgehog.fhcrc.org/bioc-data/trunk/experiment/pkgs/hgu2beta7
Last Changed Rev: 782 / Revision: 1678
Last Changed Date: 2009-05-08 12:29:52 -0700 (Fri, 08 May 2009)
wilson2 Linux (openSUSE 11.4) / x86_64  OK  WARNINGS 
liverpool Windows Server 2003 R2 (32-bit) / x64  OK  WARNINGS [ OK ]
pitt Mac OS X Leopard (10.5.8) / i386  OK  WARNINGS  OK 

Summary

Package: hgu2beta7
Version: 1.2.2
Command: mkdir hgu2beta7.buildbin-libdir && E:\biocbld\bbs-2.9-bioc\R\bin\R.exe CMD INSTALL --build --no-multiarch --library=hgu2beta7.buildbin-libdir hgu2beta7_1.2.2.tar.gz
StartedAt: 2011-07-06 17:06:12 -0700 (Wed, 06 Jul 2011)
EndedAt: 2011-07-06 17:06:19 -0700 (Wed, 06 Jul 2011)
EllapsedTime: 6.8 seconds
RetCode: 0
Status:  OK  
PackageFile: hgu2beta7_1.2.2.zip
PackageFileSize: 6.457 MiB

Command output

* installing *source* package 'hgu2beta7' ...
** R
** data
**  moving datasets to lazyload DB
** preparing package for lazy loading
** help
*** installing help indices
** building package indices ...
** testing if installed package can be loaded
* MD5 sums
packaged installation of 'hgu2beta7' as hgu2beta7_1.2.2.zip

* DONE (hgu2beta7)