Back to the "Multiple platform build/check report" |
Package 59/98 | Hostname | OS / Arch | BUILD | CHECK | BUILD BIN | ||||
humanStemCell 0.2.3 R. Gentleman
| wilson2 | Linux (openSUSE 11.4) / x86_64 | OK | OK | |||||
liverpool | Windows Server 2003 R2 (32-bit) / x64 | OK | OK | [ OK ] | |||||
pitt | Mac OS X Leopard (10.5.8) / i386 | OK | OK | OK |
Package: humanStemCell |
Version: 0.2.3 |
Command: mkdir humanStemCell.buildbin-libdir && E:\biocbld\bbs-2.9-bioc\R\bin\R.exe CMD INSTALL --build --no-multiarch --library=humanStemCell.buildbin-libdir humanStemCell_0.2.3.tar.gz |
StartedAt: 2011-07-06 17:07:00 -0700 (Wed, 06 Jul 2011) |
EndedAt: 2011-07-06 17:08:43 -0700 (Wed, 06 Jul 2011) |
EllapsedTime: 103.2 seconds |
RetCode: 0 |
Status: OK |
PackageFile: humanStemCell_0.2.3.zip |
PackageFileSize: 30.84 MiB |
* installing *source* package 'humanStemCell' ... ** data ** inst ** help *** installing help indices ** building package indices ... ** testing if installed package can be loaded * MD5 sums packaged installation of 'humanStemCell' as humanStemCell_0.2.3.zip * DONE (humanStemCell)