rfcdmin 1.6.11 N. Le Meur
Snapshot Date: 2011-10-26 11:15:27 -0700 (Wed, 26 Oct 2011) | URL: https://hedgehog.fhcrc.org/bioc-data/trunk/experiment/pkgs/rfcdmin | Last Changed Rev: 1077 / Revision: 1764 | Last Changed Date: 2009-10-14 00:44:20 -0700 (Wed, 14 Oct 2009) |
| wilson2 | Linux (openSUSE 11.4) / x86_64 | OK | ERROR | |
moscato1 | Windows Server 2008 R2 Enterprise SP1 (64-bit) / x64 | OK | ERROR | [ OK ] |
pitt | Mac OS X Leopard (10.5.8) / i386 | OK | ERROR | OK |
install for i386
* installing *source* package 'rfcdmin' ...
** data
** inst
** help
*** installing help indices
** building package indices ...
** testing if installed package can be loaded
add DLL for x64
* installing *source* package 'rfcdmin' ...
** testing if installed package can be loaded
* MD5 sums
packaged installation of 'rfcdmin' as rfcdmin_1.6.11.zip
* DONE (rfcdmin)