stjudem 1.2.2 Joern Toedling
Snapshot Date: 2011-07-06 11:15:18 -0700 (Wed, 06 Jul 2011) | URL: https://hedgehog.fhcrc.org/bioc-data/trunk/experiment/pkgs/stjudem | Last Changed Rev: 1059 / Revision: 1678 | Last Changed Date: 2009-10-13 23:40:40 -0700 (Tue, 13 Oct 2009) |
| wilson2 | Linux (openSUSE 11.4) / x86_64 | OK | WARNINGS | |
liverpool | Windows Server 2003 R2 (32-bit) / x64 | OK | WARNINGS | [ OK ] |
pitt | Mac OS X Leopard (10.5.8) / i386 | OK | WARNINGS | OK |
* installing *source* package 'stjudem' ...
** R
** data
** preparing package for lazy loading
** help
*** installing help indices
** building package indices ...
** testing if installed package can be loaded
Loading data set 'stjude' ...
Type 'summary(stjude)' for an overview of the data structure.
See package 'macat' for examplary analyses.
* MD5 sums
packaged installation of 'stjudem' as stjudem_1.2.2.zip
* DONE (stjudem)