yeastCC 1.2.12 Sandrine Dudoit
Snapshot Date: 2011-07-06 11:15:18 -0700 (Wed, 06 Jul 2011) | URL: https://hedgehog.fhcrc.org/bioc-data/trunk/experiment/pkgs/yeastCC | Last Changed Rev: 1357 / Revision: 1678 | Last Changed Date: 2010-10-14 09:39:32 -0700 (Thu, 14 Oct 2010) |
| wilson2 | Linux (openSUSE 11.4) / x86_64 | OK | WARNINGS | |
liverpool | Windows Server 2003 R2 (32-bit) / x64 | OK | WARNINGS | [ OK ] |
pitt | Mac OS X Leopard (10.5.8) / i386 | OK | WARNINGS | OK |
* installing *source* package 'yeastCC' ...
** R
** data
** moving datasets to lazyload DB
** inst
** preparing package for lazy loading
Welcome to Bioconductor
Vignettes contain introductory material. To view, type
'browseVignettes()'. To cite Bioconductor, see
'citation("Biobase")' and for packages 'citation("pkgname")'.
** help
*** installing help indices
** building package indices ...
** testing if installed package can be loaded
* MD5 sums
packaged installation of 'yeastCC' as yeastCC_1.2.12.zip
* DONE (yeastCC)