Back to the "Multiple platform build/check report" |
Package 97/98 | Hostname | OS / Arch | BUILD | CHECK | BUILD BIN | ||||
yeastGSData 0.1.5 R. Gentleman
| wilson2 | Linux (openSUSE 11.4) / x86_64 | OK | OK | |||||
liverpool | Windows Server 2003 R2 (32-bit) / x64 | OK | OK | [ OK ] | |||||
pitt | Mac OS X Leopard (10.5.8) / i386 | OK | OK | OK |
Package: yeastGSData |
Version: 0.1.5 |
Command: mkdir yeastGSData.buildbin-libdir && E:\biocbld\bbs-2.9-bioc\R\bin\R.exe CMD INSTALL --build --no-multiarch --library=yeastGSData.buildbin-libdir yeastGSData_0.1.5.tar.gz |
StartedAt: 2011-07-06 17:18:08 -0700 (Wed, 06 Jul 2011) |
EndedAt: 2011-07-06 17:18:51 -0700 (Wed, 06 Jul 2011) |
EllapsedTime: 43.0 seconds |
RetCode: 0 |
Status: OK |
PackageFile: yeastGSData_0.1.5.zip |
PackageFileSize: 8.134 MiB |
* installing *source* package 'yeastGSData' ... ** data ** inst ** help *** installing help indices ** building package indices ... ** testing if installed package can be loaded * MD5 sums packaged installation of 'yeastGSData' as yeastGSData_0.1.5.zip * DONE (yeastGSData)