Back to the "Multiple platform build/check report"

Package 98/98HostnameOS / ArchBUILDCHECKBUILD BIN
yeastRNASeq 0.0.3
J. Bullard
Snapshot Date: 2011-07-06 11:15:18 -0700 (Wed, 06 Jul 2011)
URL: https://hedgehog.fhcrc.org/bioc-data/trunk/experiment/pkgs/yeastRNASeq
Last Changed Rev: 1395 / Revision: 1678
Last Changed Date: 2010-12-03 12:31:37 -0800 (Fri, 03 Dec 2010)
wilson2 Linux (openSUSE 11.4) / x86_64  OK  OK 
liverpool Windows Server 2003 R2 (32-bit) / x64 [ OK ] OK  OK 
pitt Mac OS X Leopard (10.5.8) / i386  OK  OK  OK 

Summary

Package: yeastRNASeq
Version: 0.0.3
Command: chmod a+r yeastRNASeq -R && E:\biocbld\bbs-2.9-bioc\R\bin\R.exe CMD build --keep-empty-dirs --no-resave-data yeastRNASeq
StartedAt: 2011-07-06 14:19:54 -0700 (Wed, 06 Jul 2011)
EndedAt: 2011-07-06 14:25:14 -0700 (Wed, 06 Jul 2011)
EllapsedTime: 320.1 seconds
RetCode: 0
Status:  OK  
PackageFile: yeastRNASeq_0.0.3.tar.gz
PackageFileSize: 307 MiB

Command output

* checking for file 'yeastRNASeq/DESCRIPTION' ... OK
* preparing 'yeastRNASeq':
* checking DESCRIPTION meta-information ... OK
* installing the package to re-build vignettes
* creating vignettes ... OK
* checking for LF line-endings in source and make files
* checking for empty or unneeded directories
* looking to see if a 'data/datalist' file should be added
* building 'yeastRNASeq_0.0.3.tar.gz'