##############################################################################
##############################################################################
###
### Running command:
###
### chmod a+r HIVcDNAvantWout03 -R && E:\biocbld\bbs-3.1-bioc\R\bin\R.exe CMD build --keep-empty-dirs --no-resave-data HIVcDNAvantWout03
###
##############################################################################
##############################################################################
* checking for file 'HIVcDNAvantWout03/DESCRIPTION' ... OK
* preparing 'HIVcDNAvantWout03':
* checking DESCRIPTION meta-information ... OK
* checking whether 'INDEX' is up-to-date ... NO
* use '--force' to remove the existing 'INDEX'
* checking for LF line-endings in source and make files
* checking for empty or unneeded directories
WARNING: directory 'HIVcDNAvantWout03/inst' is empty
* looking to see if a 'data/datalist' file should be added
Read 450000 items
Read 450000 items
* building 'HIVcDNAvantWout03_1.8.0.tar.gz'