##############################################################################
##############################################################################
###
### Running command:
###
### chmod a+r Hiiragi2013 -R && E:\biocbld\bbs-3.1-bioc\R\bin\R.exe CMD build --keep-empty-dirs --no-resave-data Hiiragi2013
###
##############################################################################
##############################################################################
* checking for file 'Hiiragi2013/DESCRIPTION' ... OK
* preparing 'Hiiragi2013':
* checking DESCRIPTION meta-information ... OK
* installing the package to build vignettes
* creating vignettes ... OK
* checking for LF line-endings in source and make files
* checking for empty or unneeded directories
* looking to see if a 'data/datalist' file should be added
* building 'Hiiragi2013_1.4.0.tar.gz'