##############################################################################
##############################################################################
###
### Running command:
###
### cd MMDiffBamSubset.buildbin-libdir/MMDiffBamSubset && zip -r ../../MMDiffBamSubset_1.4.0.zip . & cd ../..
###
##############################################################################
##############################################################################
Scanning files
adding: DESCRIPTION (188 bytes security) (deflated 36%)
adding: extdata/ (256 bytes security) (stored 0%)
adding: extdata/Cfp1.csv (188 bytes security) (deflated 52%)
adding: extdata/peaks/ (256 bytes security) (stored 0%)
adding: extdata/peaks/Null_2_Macs_peaks.xls (188 bytes security) (deflated 60%)
adding: extdata/peaks/Resc_2_Macs_peaks.xls (188 bytes security) (deflated 60%)
adding: extdata/peaks/WT_2_Macs_peaks.xls (188 bytes security) (deflated 60%)
adding: extdata/reads/ (256 bytes security) (stored 0%)
adding: extdata/reads/Input.bam (188 bytes security) (deflated 0%)
adding: extdata/reads/Input.bam.bai (188 bytes security) (deflated 45%)
adding: extdata/reads/Null_2.bam (188 bytes security) (deflated 0%)
adding: extdata/reads/Null_2.bam.bai (188 bytes security) (deflated 56%)
adding: extdata/reads/Resc_2.bam (188 bytes security) (deflated 0%)
adding: extdata/reads/Resc_2.bam.bai (188 bytes security) (deflated 53%)
adding: extdata/reads/WT_2.bam (188 bytes security) (deflated 0%)
adding: extdata/reads/WT_2.bam.bai (188 bytes security) (deflated 57%)
adding: help/ (256 bytes security) (stored 0%)
adding: help/aliases.rds (188 bytes security) (stored 0%)
adding: help/AnIndex (188 bytes security) (deflated 76%)
adding: help/MMDiffBamSubset.rdb (188 bytes security) (stored 0%)
adding: help/MMDiffBamSubset.rdx (188 bytes security) (stored 0%)
adding: help/paths.rds (188 bytes security) (stored 0%)
adding: html/ (256 bytes security) (stored 0%)
adding: html/00Index.html (188 bytes security) (deflated 83%)
adding: html/R.css (188 bytes security) (deflated 75%)
adding: INDEX (188 bytes security) (deflated 56%)
adding: MD5 (188 bytes security) (deflated 47%)
adding: Meta/ (256 bytes security) (stored 0%)
adding: Meta/hsearch.rds (188 bytes security) (stored 0%)
adding: Meta/links.rds (188 bytes security) (stored 0%)
adding: Meta/nsInfo.rds (188 bytes security) (stored 0%)
adding: Meta/package.rds (188 bytes security) (stored 0%)
adding: Meta/Rd.rds (188 bytes security) (stored 0%)
adding: NAMESPACE (188 bytes security) (deflated 57%)
adding: R/ (256 bytes security) (stored 0%)
adding: R/MMDiffBamSubset (188 bytes security) (deflated 41%)
adding: R/MMDiffBamSubset.rdb (188 bytes security) (deflated 51%)
adding: R/MMDiffBamSubset.rdx (188 bytes security) (stored 0%)