##############################################################################
##############################################################################
###
### Running command:
###
### chmod a+r derfinderData -R && E:\biocbld\bbs-3.1-bioc\R\bin\R.exe CMD build --keep-empty-dirs --no-resave-data derfinderData
###
##############################################################################
##############################################################################
* checking for file 'derfinderData/DESCRIPTION' ... OK
* preparing 'derfinderData':
* checking DESCRIPTION meta-information ... OK
* installing the package to build vignettes
* creating vignettes ... OK
* checking for LF line-endings in source and make files
* checking for empty or unneeded directories
* looking to see if a 'data/datalist' file should be added
* building 'derfinderData_0.102.1.tar.gz'