##############################################################################
##############################################################################
###
### Running command:
###
### cd gskb.buildbin-libdir/gskb && zip -r ../../gskb_1.0.0.zip . & cd ../..
###
##############################################################################
##############################################################################
Scanning files
adding: data/ (256 bytes security) (stored 0%)
adding: data/datalist (188 bytes security) (deflated 17%)
adding: data/mm_GO.rda (188 bytes security) (deflated 0%)
adding: data/mm_location.rda (188 bytes security) (deflated 0%)
adding: data/mm_metabolic.rda (188 bytes security) (deflated 0%)
adding: data/mm_miRNA.rda (188 bytes security) (deflated 0%)
adding: data/mm_other.rda (188 bytes security) (deflated 0%)
adding: data/mm_pathway.rda (188 bytes security) (deflated 0%)
adding: data/mm_TF.rda (188 bytes security) (deflated 0%)
adding: DESCRIPTION (188 bytes security) (deflated 56%)
adding: doc/ (256 bytes security) (stored 0%)
adding: doc/gskb.pdf (188 bytes security) (deflated 15%)
adding: doc/gskb.R (188 bytes security) (deflated 75%)
adding: doc/gskb.Rnw (188 bytes security) (deflated 66%)
adding: doc/index.html (188 bytes security) (deflated 57%)
adding: help/ (256 bytes security) (stored 0%)
adding: help/aliases.rds (188 bytes security) (stored 0%)
adding: help/AnIndex (188 bytes security) (deflated 45%)
adding: help/gskb.rdb (188 bytes security) (deflated 2%)
adding: help/gskb.rdx (188 bytes security) (stored 0%)
adding: help/paths.rds (188 bytes security) (stored 0%)
adding: html/ (256 bytes security) (stored 0%)
adding: html/00Index.html (188 bytes security) (deflated 63%)
adding: html/R.css (188 bytes security) (deflated 75%)
adding: INDEX (188 bytes security) (deflated 63%)
adding: MD5 (188 bytes security) (deflated 42%)
adding: Meta/ (256 bytes security) (stored 0%)
adding: Meta/data.rds (188 bytes security) (stored 0%)
adding: Meta/hsearch.rds (188 bytes security) (stored 0%)
adding: Meta/links.rds (188 bytes security) (stored 0%)
adding: Meta/nsInfo.rds (188 bytes security) (stored 0%)
adding: Meta/package.rds (188 bytes security) (stored 0%)
adding: Meta/Rd.rds (188 bytes security) (stored 0%)
adding: Meta/vignette.rds (188 bytes security) (stored 0%)
adding: NAMESPACE (188 bytes security) (stored 0%)
adding: NEWS (188 bytes security) (stored 0%)