##############################################################################
##############################################################################
###
### Running command:
###
### cd kidpack.buildbin-libdir/kidpack && zip -r ../../kidpack_1.10.0.zip . & cd ../..
###
##############################################################################
##############################################################################
adding: archive/ (256 bytes security) (stored 0%)
adding: archive/makecloneanno.R (188 bytes security) (deflated 66%)
adding: archive/makeeset.R (188 bytes security) (deflated 62%)
adding: archive/preproc.txt (188 bytes security) (deflated 53%)
adding: archive/readdata.R (188 bytes security) (deflated 68%)
adding: archive/runvsn74.R (188 bytes security) (deflated 57%)
adding: archive/test.R (188 bytes security) (deflated 77%)
adding: data/ (256 bytes security) (stored 0%)
adding: data/cloneanno.rda (188 bytes security) (deflated 78%)
adding: data/datalist (188 bytes security) (deflated 25%)
adding: data/eset.rda (188 bytes security) (deflated 0%)
adding: data/esetSpot.rda (188 bytes security) (deflated 0%)
adding: data/hybanno.rda (188 bytes security) (deflated 80%)
adding: data/qua.rda (188 bytes security) (deflated 0%)
adding: data/spotanno.rda (188 bytes security) (deflated 79%)
adding: DESCRIPTION (188 bytes security) (deflated 35%)
adding: doc/ (256 bytes security) (stored 0%)
adding: doc/index.html (188 bytes security) (deflated 58%)
adding: doc/kidpack.pdf (188 bytes security) (deflated 6%)
adding: doc/kidpack.R (188 bytes security) (deflated 71%)
adding: doc/kidpack.Rnw (188 bytes security) (deflated 51%)
adding: help/ (256 bytes security) (stored 0%)
adding: help/aliases.rds (188 bytes security) (stored 0%)
adding: help/AnIndex (188 bytes security) (deflated 44%)
adding: help/kidpack.rdb (188 bytes security) (stored 0%)
adding: help/kidpack.rdx (188 bytes security) (stored 0%)
adding: help/paths.rds (188 bytes security) (stored 0%)
adding: html/ (256 bytes security) (stored 0%)
adding: html/00Index.html (188 bytes security) (deflated 63%)
adding: html/R.css (188 bytes security) (deflated 75%)
adding: INDEX (188 bytes security) (deflated 50%)
adding: MD5 (188 bytes security) (deflated 45%)
adding: Meta/ (256 bytes security) (stored 0%)
adding: Meta/data.rds (188 bytes security) (stored 0%)
adding: Meta/hsearch.rds (188 bytes security) (stored 0%)
adding: Meta/links.rds (188 bytes security) (stored 0%)
adding: Meta/nsInfo.rds (188 bytes security) (stored 0%)
adding: Meta/package.rds (188 bytes security) (stored 0%)
adding: Meta/Rd.rds (188 bytes security) (stored 0%)
adding: Meta/vignette.rds (188 bytes security) (stored 0%)
adding: NAMESPACE (188 bytes security) (stored 0%)
adding: R/ (256 bytes security) (stored 0%)
adding: R/kidpack (188 bytes security) (deflated 41%)
adding: R/kidpack.rdb (188 bytes security) (deflated 14%)
adding: R/kidpack.rdx (188 bytes security) (stored 0%)
adding: scripts/ (256 bytes security) (stored 0%)
adding: scripts/check.R (188 bytes security) (deflated 61%)
adding: scripts/make_esetSpot.R (188 bytes security) (deflated 46%)
adding: scripts/preproc.pdf (188 bytes security) (deflated 13%)
adding: scripts/preproc.Rnw (188 bytes security) (deflated 70%)