##############################################################################
##############################################################################
###
### Running command:
###
### E:\biocbld\bbs-3.1-bioc\R\bin\R.exe --arch i386 CMD INSTALL --no-multiarch ppiData
###
##############################################################################
##############################################################################
* installing to library 'E:/biocbld/bbs-3.1-bioc/R/library'
* installing *source* package 'ppiData' ...
** R
** data
*** moving datasets to lazyload DB
** inst
** preparing package for lazy loading
Creating a generic function for 'nchar' from package 'base' in package 'S4Vectors'
** help
*** installing help indices
** building package indices
** installing vignettes
** testing if installed package can be loaded
Creating a generic function for 'nchar' from package 'base' in package 'S4Vectors'
* DONE (ppiData)