##############################################################################
##############################################################################
###
### Running command:
###
### cd seqCNA.annot.buildbin-libdir/seqCNA.annot && zip -r ../../seqCNA.annot_1.4.0.zip . & cd ../..
###
##############################################################################
##############################################################################
adding: CITATION (188 bytes security) (deflated 42%)
adding: data/ (256 bytes security) (stored 0%)
adding: data/datalist (188 bytes security) (deflated 38%)
adding: data/hg18.txt.gz (188 bytes security) (deflated 0%)
adding: data/hg18_len.txt.gz (188 bytes security) (stored 0%)
adding: data/hg19.txt.gz (188 bytes security) (deflated 0%)
adding: data/hg19_len.txt.gz (188 bytes security) (stored 0%)
adding: DESCRIPTION (188 bytes security) (deflated 33%)
adding: help/ (256 bytes security) (stored 0%)
adding: help/aliases.rds (188 bytes security) (stored 0%)
adding: help/AnIndex (188 bytes security) (deflated 53%)
adding: help/paths.rds (188 bytes security) (stored 0%)
adding: help/seqCNA.annot.rdb (188 bytes security) (deflated 3%)
adding: help/seqCNA.annot.rdx (188 bytes security) (stored 0%)
adding: html/ (256 bytes security) (stored 0%)
adding: html/00Index.html (188 bytes security) (deflated 67%)
adding: html/R.css (188 bytes security) (deflated 75%)
adding: INDEX (188 bytes security) (deflated 70%)
adding: MD5 (188 bytes security) (deflated 43%)
adding: Meta/ (256 bytes security) (stored 0%)
adding: Meta/data.rds (188 bytes security) (stored 0%)
adding: Meta/hsearch.rds (188 bytes security) (stored 0%)
adding: Meta/links.rds (188 bytes security) (stored 0%)
adding: Meta/nsInfo.rds (188 bytes security) (stored 0%)
adding: Meta/package.rds (188 bytes security) (stored 0%)
adding: Meta/Rd.rds (188 bytes security) (stored 0%)
adding: NAMESPACE (188 bytes security) (stored 0%)
adding: R/ (256 bytes security) (stored 0%)
adding: R/seqCNA.annot (188 bytes security) (deflated 41%)
adding: R/seqCNA.annot.rdb (188 bytes security) (deflated 24%)
adding: R/seqCNA.annot.rdx (188 bytes security) (stored 0%)