Back to Multiple platform build/check report for BioC 3.10 |
|
This page was generated on 2020-04-15 12:43:22 -0400 (Wed, 15 Apr 2020).
Package 55/1823 | Hostname | OS / Arch | INSTALL | BUILD | CHECK | BUILD BIN | ||||||
AneuFinder 1.14.0 Aaron Taudt
| malbec1 | Linux (Ubuntu 18.04.4 LTS) / x86_64 | OK | OK | OK | |||||||
tokay1 | Windows Server 2012 R2 Standard / x64 | OK | OK | OK | OK | |||||||
merida1 | OS X 10.11.6 El Capitan / x86_64 | OK | OK | OK | [ OK ] |
Package: AneuFinder |
Version: 1.14.0 |
Command: rm -rf AneuFinder.buildbin-libdir && mkdir AneuFinder.buildbin-libdir && /Users/biocbuild/BBS/utils/build-universal.sh AneuFinder_1.14.0.tar.gz /Library/Frameworks/R.framework/Versions/Current/Resources/bin/R AneuFinder.buildbin-libdir |
StartedAt: 2020-04-15 06:48:41 -0400 (Wed, 15 Apr 2020) |
EndedAt: 2020-04-15 06:49:25 -0400 (Wed, 15 Apr 2020) |
EllapsedTime: 43.9 seconds |
RetCode: 0 |
Status: OK |
PackageFile: AneuFinder_1.14.0.tgz |
PackageFileSize: 1.208 MiB |
############################################################################## ############################################################################## ### ### Running command: ### ### rm -rf AneuFinder.buildbin-libdir && mkdir AneuFinder.buildbin-libdir && /Users/biocbuild/BBS/utils/build-universal.sh AneuFinder_1.14.0.tar.gz /Library/Frameworks/R.framework/Versions/Current/Resources/bin/R AneuFinder.buildbin-libdir ### ############################################################################## ############################################################################## >>>>>>> >>>>>>> INSTALLATION WITH 'R CMD INSTALL --preclean --no-multiarch --library=AneuFinder.buildbin-libdir AneuFinder_1.14.0.tar.gz' >>>>>>> * installing *source* package ‘AneuFinder’ ... ** using staged installation ** libs clang++ -std=gnu++11 -I"/Library/Frameworks/R.framework/Resources/include" -DNDEBUG -isysroot /Library/Developer/CommandLineTools/SDKs/MacOSX.sdk -I/usr/local/include -fPIC -Wall -g -O2 -c R_interface.cpp -o R_interface.o clang++ -std=gnu++11 -I"/Library/Frameworks/R.framework/Resources/include" -DNDEBUG -isysroot /Library/Developer/CommandLineTools/SDKs/MacOSX.sdk -I/usr/local/include -fPIC -Wall -g -O2 -c densities.cpp -o densities.o clang++ -std=gnu++11 -I"/Library/Frameworks/R.framework/Resources/include" -DNDEBUG -isysroot /Library/Developer/CommandLineTools/SDKs/MacOSX.sdk -I/usr/local/include -fPIC -Wall -g -O2 -c init.cpp -o init.o clang++ -std=gnu++11 -I"/Library/Frameworks/R.framework/Resources/include" -DNDEBUG -isysroot /Library/Developer/CommandLineTools/SDKs/MacOSX.sdk -I/usr/local/include -fPIC -Wall -g -O2 -c loghmm.cpp -o loghmm.o clang++ -std=gnu++11 -I"/Library/Frameworks/R.framework/Resources/include" -DNDEBUG -isysroot /Library/Developer/CommandLineTools/SDKs/MacOSX.sdk -I/usr/local/include -fPIC -Wall -g -O2 -c scalehmm.cpp -o scalehmm.o clang++ -std=gnu++11 -I"/Library/Frameworks/R.framework/Resources/include" -DNDEBUG -isysroot /Library/Developer/CommandLineTools/SDKs/MacOSX.sdk -I/usr/local/include -fPIC -Wall -g -O2 -c utility.cpp -o utility.o clang++ -std=gnu++11 -dynamiclib -Wl,-headerpad_max_install_names -undefined dynamic_lookup -single_module -multiply_defined suppress -L/Library/Frameworks/R.framework/Resources/lib -L/usr/local/lib -o AneuFinder.so R_interface.o densities.o init.o loghmm.o scalehmm.o utility.o -F/Library/Frameworks/R.framework/.. -framework R -Wl,-framework -Wl,CoreFoundation installing to /Users/biocbuild/bbs-3.10-bioc/meat/AneuFinder.buildbin-libdir/00LOCK-AneuFinder/00new/AneuFinder/libs ** R ** inst ** byte-compile and prepare package for lazy loading ** help *** installing help indices ** building package indices ** installing vignettes ** testing if installed package can be loaded from temporary location ** checking absolute paths in shared objects and dynamic libraries ** testing if installed package can be loaded from final location ** testing if installed package keeps a record of temporary installation path * DONE (AneuFinder) >>>>>>> >>>>>>> FIXING LINKS FOR AneuFinder.buildbin-libdir/AneuFinder/libs//AneuFinder.so >>>>>>> install_name_tool -change "/usr/local/lib/libgcc_s.1.dylib" "/Library/Frameworks/R.framework/Versions/3.6/Resources/lib/libgcc_s.1.dylib" "AneuFinder.buildbin-libdir/AneuFinder/libs//AneuFinder.so" install_name_tool -change "/usr/local/lib/libgfortran.3.dylib" "/Library/Frameworks/R.framework/Versions/3.6/Resources/lib/libgfortran.3.dylib" "AneuFinder.buildbin-libdir/AneuFinder/libs//AneuFinder.so" install_name_tool -change "/usr/local/lib/libreadline.5.2.dylib" "/Library/Frameworks/R.framework/Versions/3.6/Resources/lib/libreadline.5.2.dylib" "AneuFinder.buildbin-libdir/AneuFinder/libs//AneuFinder.so" install_name_tool -change "/usr/local/lib/libreadline.dylib" "/Library/Frameworks/R.framework/Versions/3.6/Resources/lib/libreadline.dylib" "AneuFinder.buildbin-libdir/AneuFinder/libs//AneuFinder.so" install_name_tool -change "/usr/local/lib/libquadmath.0.dylib" "/Library/Frameworks/R.framework/Versions/3.6/Resources/lib/libquadmath.0.dylib" "AneuFinder.buildbin-libdir/AneuFinder/libs//AneuFinder.so"