Back to Multiple platform build/check report for BioC 3.10 |
|
This page was generated on 2020-04-15 12:08:21 -0400 (Wed, 15 Apr 2020).
Package 1044/1823 | Hostname | OS / Arch | INSTALL | BUILD | CHECK | BUILD BIN | ||||||
MIMOSA 1.24.0 Greg Finak
| malbec1 | Linux (Ubuntu 18.04.4 LTS) / x86_64 | [ OK ] | OK | WARNINGS | ![]() | ||||||
tokay1 | Windows Server 2012 R2 Standard / x64 | OK | OK | WARNINGS | OK | ![]() | ||||||
merida1 | OS X 10.11.6 El Capitan / x86_64 | OK | OK | OK | OK | ![]() |
Package: MIMOSA |
Version: 1.24.0 |
Command: /home/biocbuild/bbs-3.10-bioc/R/bin/R CMD INSTALL MIMOSA |
StartedAt: 2020-04-14 18:18:57 -0400 (Tue, 14 Apr 2020) |
EndedAt: 2020-04-14 18:19:36 -0400 (Tue, 14 Apr 2020) |
EllapsedTime: 39.5 seconds |
RetCode: 0 |
Status: OK |
############################################################################## ############################################################################## ### ### Running command: ### ### /home/biocbuild/bbs-3.10-bioc/R/bin/R CMD INSTALL MIMOSA ### ############################################################################## ############################################################################## * installing to library ‘/home/biocbuild/bbs-3.10-bioc/R/library’ * installing *source* package ‘MIMOSA’ ... ** using staged installation ** libs g++ -std=gnu++11 -I"/home/biocbuild/bbs-3.10-bioc/R/include" -DNDEBUG -I"/home/biocbuild/bbs-3.10-bioc/R/library/Rcpp/include" -I"/home/biocbuild/bbs-3.10-bioc/R/library/RcppArmadillo/include" -I/usr/local/include `/home/biocbuild/bbs-3.10-bioc/R/bin/Rscript -e "RcppArmadillo:::CxxFlags()"` -fpic -g -O2 -Wall -c BetaMix.cpp -o BetaMix.o g++ -std=gnu++11 -I"/home/biocbuild/bbs-3.10-bioc/R/include" -DNDEBUG -I"/home/biocbuild/bbs-3.10-bioc/R/library/Rcpp/include" -I"/home/biocbuild/bbs-3.10-bioc/R/library/RcppArmadillo/include" -I/usr/local/include `/home/biocbuild/bbs-3.10-bioc/R/bin/Rscript -e "RcppArmadillo:::CxxFlags()"` -fpic -g -O2 -Wall -c MCMC.cpp -o MCMC.o MCMC.cpp: In function ‘SEXPREC* fitMCMC(SEXP, SEXP, SEXP, SEXP, SEXP, SEXP, SEXP, SEXP, SEXP, SEXP, SEXP, SEXP, SEXP, SEXP, SEXP, SEXP, SEXP, SEXP)’: MCMC.cpp:73:9: warning: suggest parentheses around comparison in operand of ‘|’ [-Wparentheses] if(file==NULL|fileP==NULL){ ^ MCMC.cpp:88:18: warning: comparison between signed and unsigned integer expressions [-Wsign-compare] if(alphas.size()!=stim.ncol()){ ~~~~~~~~~~~~~^~~~~~~~~~~~~ MCMC.cpp:188:15: warning: comparison between signed and unsigned integer expressions [-Wsign-compare] for(int i=0;i<alphas.size();i++){ ~^~~~~~~~~~~~~~ MCMC.cpp:191:15: warning: comparison between signed and unsigned integer expressions [-Wsign-compare] for(int i=0;i<alphau.size();i++){ ~^~~~~~~~~~~~~~ MCMC.cpp:523:17: warning: comparison between signed and unsigned integer expressions [-Wsign-compare] for(int j=0;j<p.size();j++){ ~^~~~~~~~~ MCMC.cpp:542:21: warning: comparison between signed and unsigned integer expressions [-Wsign-compare] for(int obs=0;obs<alphas.size();obs++){ ~~~^~~~~~~~~~~~~~ MCMC.cpp:545:21: warning: comparison between signed and unsigned integer expressions [-Wsign-compare] for(int obs=0;obs<alphau.size();obs++){ ~~~^~~~~~~~~~~~~~ MCMC.cpp: In function ‘double lkbeta(const std::vector<double>&)’: MCMC.cpp:627:15: warning: comparison between signed and unsigned integer expressions [-Wsign-compare] for(int i=0;i<alpha.size();i++){ ~^~~~~~~~~~~~~ MCMC.cpp: In function ‘void simZ(double&, std::vector<double>&, std::vector<double>&, std::vector<double>&, std::vector<double>&, std::vector<bool>&, int, int)’: MCMC.cpp:677:12: warning: comparison between signed and unsigned integer expressions [-Wsign-compare] for(i=0;i < lnull.size(); i++){ ~~^~~~~~~~~~~~~~ MCMC.cpp: In function ‘double normconstIBeta(double, double, double, double)’: MCMC.cpp:811:15: warning: comparison between signed and unsigned integer expressions [-Wsign-compare] for(int i=0;i<upper.size();i++){ ~^~~~~~~~~~~~~ MCMC.cpp: In function ‘double nc(double, double, double, double, double)’: MCMC.cpp:884:15: warning: comparison between signed and unsigned integer expressions [-Wsign-compare] for(int i=0;i<(s.size()-1);i++){ ~^~~~~~~~~~~~~ MCMC.cpp:889:15: warning: comparison between signed and unsigned integer expressions [-Wsign-compare] for(int i=0;i<s.size();i++){ ~^~~~~~~~~ gcc -I"/home/biocbuild/bbs-3.10-bioc/R/include" -DNDEBUG -I"/home/biocbuild/bbs-3.10-bioc/R/library/Rcpp/include" -I"/home/biocbuild/bbs-3.10-bioc/R/library/RcppArmadillo/include" -I/usr/local/include -fpic -g -O2 -Wall -c MIMOSA_init.c -o MIMOSA_init.o gcc -I"/home/biocbuild/bbs-3.10-bioc/R/include" -DNDEBUG -I"/home/biocbuild/bbs-3.10-bioc/R/library/Rcpp/include" -I"/home/biocbuild/bbs-3.10-bioc/R/library/RcppArmadillo/include" -I/usr/local/include -fpic -g -O2 -Wall -c betaintegral.c -o betaintegral.o g++ -std=gnu++11 -I"/home/biocbuild/bbs-3.10-bioc/R/include" -DNDEBUG -I"/home/biocbuild/bbs-3.10-bioc/R/library/Rcpp/include" -I"/home/biocbuild/bbs-3.10-bioc/R/library/RcppArmadillo/include" -I/usr/local/include `/home/biocbuild/bbs-3.10-bioc/R/bin/Rscript -e "RcppArmadillo:::CxxFlags()"` -fpic -g -O2 -Wall -c betaintegralRcpp.cpp -o betaintegralRcpp.o g++ -std=gnu++11 -shared -L/home/biocbuild/bbs-3.10-bioc/R/lib -L/usr/local/lib -o MIMOSA.so BetaMix.o MCMC.o MIMOSA_init.o betaintegral.o betaintegralRcpp.o -O3 -lm -lstdc++ -I"/home/biocbuild/bbs-3.10-bioc/R/library/RcppArmadillo/include" -L/home/biocbuild/bbs-3.10-bioc/R/lib -lR installing to /home/biocbuild/bbs-3.10-bioc/R/library/00LOCK-MIMOSA/00new/MIMOSA/libs ** R ** data *** moving datasets to lazyload DB ** inst ** byte-compile and prepare package for lazy loading ** help *** installing help indices ** building package indices ** installing vignettes ** testing if installed package can be loaded from temporary location ** checking absolute paths in shared objects and dynamic libraries ** testing if installed package can be loaded from final location ** testing if installed package keeps a record of temporary installation path * DONE (MIMOSA)