Back to Multiple platform build/check report for BioC 3.10 |
|
This page was generated on 2020-04-15 12:15:14 -0400 (Wed, 15 Apr 2020).
Package 1388/1823 | Hostname | OS / Arch | INSTALL | BUILD | CHECK | BUILD BIN | ||||||
Rcwl 1.2.1 Qiang Hu
| malbec1 | Linux (Ubuntu 18.04.4 LTS) / x86_64 | OK | [ OK ] | OK | ![]() | ||||||
tokay1 | Windows Server 2012 R2 Standard / x64 | ...NOT SUPPORTED... | ||||||||||
merida1 | OS X 10.11.6 El Capitan / x86_64 | OK | OK | OK | OK | ![]() |
Package: Rcwl |
Version: 1.2.1 |
Command: /home/biocbuild/bbs-3.10-bioc/R/bin/R CMD build --keep-empty-dirs --no-resave-data Rcwl |
StartedAt: 2020-04-14 23:28:59 -0400 (Tue, 14 Apr 2020) |
EndedAt: 2020-04-14 23:29:57 -0400 (Tue, 14 Apr 2020) |
EllapsedTime: 57.6 seconds |
RetCode: 0 |
Status: OK |
PackageFile: Rcwl_1.2.1.tar.gz |
PackageFileSize: 1.567 MiB |
############################################################################## ############################################################################## ### ### Running command: ### ### /home/biocbuild/bbs-3.10-bioc/R/bin/R CMD build --keep-empty-dirs --no-resave-data Rcwl ### ############################################################################## ############################################################################## * checking for file ‘Rcwl/DESCRIPTION’ ... OK * preparing ‘Rcwl’: * checking DESCRIPTION meta-information ... OK * installing the package to build vignettes * creating vignettes ... OK * checking for LF line-endings in source and make files and shell scripts * checking for empty or unneeded directories * building ‘Rcwl_1.2.1.tar.gz’