Back to Multiple platform build/check report for BioC 3.10 |
|
This page was generated on 2020-04-15 12:39:42 -0400 (Wed, 15 Apr 2020).
Package 1777/1823 | Hostname | OS / Arch | INSTALL | BUILD | CHECK | BUILD BIN | ||||||
unifiedWMWqPCR 1.22.0 Joris Meys
| malbec1 | Linux (Ubuntu 18.04.4 LTS) / x86_64 | OK | OK | WARNINGS | ![]() | ||||||
tokay1 | Windows Server 2012 R2 Standard / x64 | OK | OK | WARNINGS | OK | ![]() | ||||||
merida1 | OS X 10.11.6 El Capitan / x86_64 | OK | OK | WARNINGS | [ OK ] | ![]() |
Package: unifiedWMWqPCR |
Version: 1.22.0 |
Command: rm -rf unifiedWMWqPCR.buildbin-libdir && mkdir unifiedWMWqPCR.buildbin-libdir && /Users/biocbuild/BBS/utils/build-universal.sh unifiedWMWqPCR_1.22.0.tar.gz /Library/Frameworks/R.framework/Versions/Current/Resources/bin/R unifiedWMWqPCR.buildbin-libdir |
StartedAt: 2020-04-15 09:02:55 -0400 (Wed, 15 Apr 2020) |
EndedAt: 2020-04-15 09:04:04 -0400 (Wed, 15 Apr 2020) |
EllapsedTime: 69.0 seconds |
RetCode: 0 |
Status: OK |
PackageFile: unifiedWMWqPCR_1.22.0.tgz |
PackageFileSize: 734 KiB |
############################################################################## ############################################################################## ### ### Running command: ### ### rm -rf unifiedWMWqPCR.buildbin-libdir && mkdir unifiedWMWqPCR.buildbin-libdir && /Users/biocbuild/BBS/utils/build-universal.sh unifiedWMWqPCR_1.22.0.tar.gz /Library/Frameworks/R.framework/Versions/Current/Resources/bin/R unifiedWMWqPCR.buildbin-libdir ### ############################################################################## ############################################################################## >>>>>>> >>>>>>> INSTALLATION WITH 'R CMD INSTALL --preclean --no-multiarch --library=unifiedWMWqPCR.buildbin-libdir unifiedWMWqPCR_1.22.0.tar.gz' >>>>>>> * installing *source* package ‘unifiedWMWqPCR’ ... ** using staged installation ** R ** data ** inst ** byte-compile and prepare package for lazy loading Creating a generic function for ‘order’ from package ‘base’ in package ‘unifiedWMWqPCR’ ** help *** installing help indices ** building package indices ** installing vignettes ** testing if installed package can be loaded from temporary location ** testing if installed package can be loaded from final location ** testing if installed package keeps a record of temporary installation path * DONE (unifiedWMWqPCR)