Back to Multiple platform build/check report for BioC 3.10 |
|
This page was generated on 2020-04-15 12:29:04 -0400 (Wed, 15 Apr 2020).
Package 98/1823 | Hostname | OS / Arch | INSTALL | BUILD | CHECK | BUILD BIN | ||||||
AUCell 1.8.0 Sara Aibar
| malbec1 | Linux (Ubuntu 18.04.4 LTS) / x86_64 | OK | OK | WARNINGS | ![]() | ||||||
tokay1 | Windows Server 2012 R2 Standard / x64 | [ OK ] | OK | WARNINGS | OK | ![]() | ||||||
merida1 | OS X 10.11.6 El Capitan / x86_64 | OK | OK | WARNINGS | OK | ![]() |
Package: AUCell |
Version: 1.8.0 |
Command: C:\cygwin\bin\curl.exe -O https://malbec1.bioconductor.org/BBS/3.10/bioc/src/contrib/AUCell_1.8.0.tar.gz && rm -rf AUCell.buildbin-libdir && mkdir AUCell.buildbin-libdir && C:\Users\biocbuild\bbs-3.10-bioc\R\bin\R.exe CMD INSTALL --merge-multiarch --build --library=AUCell.buildbin-libdir AUCell_1.8.0.tar.gz && C:\Users\biocbuild\bbs-3.10-bioc\R\bin\R.exe CMD INSTALL AUCell_1.8.0.zip && rm AUCell_1.8.0.tar.gz AUCell_1.8.0.zip |
StartedAt: 2020-04-14 19:35:29 -0400 (Tue, 14 Apr 2020) |
EndedAt: 2020-04-14 19:36:17 -0400 (Tue, 14 Apr 2020) |
EllapsedTime: 48.4 seconds |
RetCode: 0 |
Status: OK |
############################################################################## ############################################################################## ### ### Running command: ### ### C:\cygwin\bin\curl.exe -O https://malbec1.bioconductor.org/BBS/3.10/bioc/src/contrib/AUCell_1.8.0.tar.gz && rm -rf AUCell.buildbin-libdir && mkdir AUCell.buildbin-libdir && C:\Users\biocbuild\bbs-3.10-bioc\R\bin\R.exe CMD INSTALL --merge-multiarch --build --library=AUCell.buildbin-libdir AUCell_1.8.0.tar.gz && C:\Users\biocbuild\bbs-3.10-bioc\R\bin\R.exe CMD INSTALL AUCell_1.8.0.zip && rm AUCell_1.8.0.tar.gz AUCell_1.8.0.zip ### ############################################################################## ############################################################################## % Total % Received % Xferd Average Speed Time Time Time Current Dload Upload Total Spent Left Speed 0 0 0 0 0 0 0 0 --:--:-- --:--:-- --:--:-- 0 100 1705k 100 1705k 0 0 30.1M 0 --:--:-- --:--:-- --:--:-- 32.0M install for i386 * installing *source* package 'AUCell' ... ** using staged installation ** R ** inst ** byte-compile and prepare package for lazy loading Creating a new generic function for 'cbind' in package 'AUCell' ** help *** installing help indices converting help for package 'AUCell' finding HTML links ... done AUCell_buildRankings html finding level-2 HTML links ... done AUCell_calcAUC html AUCell_createViewerApp html AUCell_exploreThresholds html AUCell_plotHist html AUCell_plotTSNE html GeneSet-methods html aucellResults-class html orderAUC html plotGeneCount html plotTsne_cellProps html updateAucellResults html ** building package indices ** installing vignettes 'AUCell.Rmd' using 'UTF-8' ** testing if installed package can be loaded from temporary location ** testing if installed package can be loaded from final location ** testing if installed package keeps a record of temporary installation path install for x64 * installing *source* package 'AUCell' ... ** testing if installed package can be loaded * MD5 sums packaged installation of 'AUCell' as AUCell_1.8.0.zip * DONE (AUCell) * installing to library 'C:/Users/biocbuild/bbs-3.10-bioc/R/library' package 'AUCell' successfully unpacked and MD5 sums checked